BEGIN:VCALENDAR
PRODID:-//PUBBLE//an agenda//NL
VERSION:2.0
METHOD:PUBLISH
BEGIN:VEVENT
DTSTART:20260506T083800Z
DTEND:20260624T083800Z
DTSTAMP:20260424T141244Z
UID:53cb65f0-a4ca-4a9f-895f-0b51ab6b5698
CREATED:20260424T141244Z
URL:https://www.achterhoekfoto.nl/agenda/item/547412
NAME:Nieuw in Winterswijk: even ‘Stil’ op woensdagavond AchterhoekFoto.nl
X-WR-CALNAME:Nieuw in Winterswijk: even ‘Stil’ op woensdagavond AchterhoekFoto.nl
X-ALT-DESC;FMTTYPE=text/html:<a href='https://www.achterhoekfoto.nl/agenda/item//547412'>https://achterhoekfoto.nl/agenda/item//547412</a> || <p>Even de pauzeknop indrukken in een wereld die altijd doorraast? Vanaf woensdag 6 mei organiseren de Doopsgezinde- en Protestantse Gemeente wekelijks ‘Stil’. In mei en juni is iedereen -ongeacht achtergrond- elke woensdag van 19.00 tot 19.30 uur welkom in het Doopsgezinde Kerkje. ‘Stil’ is een half uur onthaasten met muziek en inspirerende teksten. Een moment om even tot rust te komen midden in de week. De toegang is vrij; bij de uitgang is een vrije gift mogelijk.</p>
DESCRIPTION:<a href='https://www.achterhoekfoto.nl/agenda/item//547412'>https://www.achterhoekfoto.nl/agenda/item//547412</a> || Even de pauzeknop indrukken in een wereld die altijd doorraast? Vanaf woensdag 6 mei organiseren de Doopsgezinde- en Protestantse Gemeente wekelijks ‘Stil’. In mei en juni is iedereen -ongeacht achtergrond- elke woensdag van 19.00 tot 19.30 uur welkom in het Doopsgezinde Kerkje. ‘Stil’ is een half uur onthaasten met muziek en inspirerende teksten. Een moment om even tot rust te komen midden in de week. De toegang is vrij; bij de uitgang is een vrije gift mogelijk.
LAST-MODIFIED:20260424T141244Z
LOCATION:doopsgezind kerkje Torenstraat 4 4 7101bx Winterswijk
SEQUENCE:0
STATUS:CONFIRMED
SUMMARY:Nieuw in Winterswijk: even ‘Stil’ op woensdagavond
TRANSP:OPAQUE
END:VEVENT
END:VCALENDAR
