BEGIN:VCALENDAR
PRODID:-//PUBBLE//an agenda//NL
VERSION:2.0
METHOD:PUBLISH
BEGIN:VEVENT
DTSTART:20260502T130000Z
DTEND:20260502T134500Z
DTSTAMP:20260424T154553Z
UID:2153fa64-0f61-4c94-abeb-6760410fc757
CREATED:20260424T154553Z
URL:https://www.achterhoekfoto.nl/agenda/item/547297
NAME:Maria Vespers door het Gregoriaans Getijdenkoor Sint Jan - Zutphen AchterhoekFoto.nl
X-WR-CALNAME:Maria Vespers door het Gregoriaans Getijdenkoor Sint Jan - Zutphen AchterhoekFoto.nl
X-ALT-DESC;FMTTYPE=text/html:<a href='https://www.achterhoekfoto.nl/agenda/item//547297'>https://achterhoekfoto.nl/agenda/item//547297</a> || <p>Al eeuwen worden in abdijen en kloosters dagelijks de getijden gebe­den of gezongen.&nbsp;</p><p>Deze liturgie is daarbuiten in veel parochiekerken onbekend en onbe­kend maakt al gauw onbemind.</p><p>Toch heeft deze vorm van liturgie een eigen aantrekkingskracht en bestaat er een alsmaar groeiende belangstelling voor deze meditatieve en spirituele vieringen.</p><p>De Vespers zijn – naast de Lauden in de ochtend – de belangrijkste van de dagelijkse getijden. &nbsp;Ze worden gebeden bij het overgaan van de dag naar de nacht wanneer de lichten worden ontstoken.</p><p>Wij brengen dank aan God voor de voorbije dag en prijzen Zijn naam en geven de eer die Hem toekomt.&nbsp;</p><p>De vespers in de maand mei &nbsp;staan in het teken van moeder Maria. De Rooms-Katholieke Kerk heeft de maanden mei en oktober toegewijd aan Maria. De Mariadevotie in de meimaand is vanuit de parochies opgekomen in de middeleeuwen en begon in Italië. Deze devotie bestaat nog steeds tot op de dag van vandaag.</p><p>In 1571 heeft paus Pius V bepaald dat rond 7 oktober het feest van Maria-rozenkrans zou worden gevierd. Eén dag in de maand oktober.</p><p>De vespers in de Sint Jan worden in &nbsp;het Latijn gezongen. Naast de psalmen zingt het koor enkele Mariahymnen.</p><p>Met deze Vespers en de Getijdenvieringen wil het Gregoriaans Getijdenkoor Sint Jan het kostbare erfgoed van het Gregoriaans bewaren.</p><p>Tijdens de viering zijn er tekstboekjes met zowel Latijnse- en Nederlandse teksten beschikbaar.</p><p>Na afloop wordt een vrijwillige bijdrage op prijs gesteld. Hiermee kunnen wij de kosten van de dirigent, boekjes en kleding mede bekostigen.</p>
DESCRIPTION:<a href='https://www.achterhoekfoto.nl/agenda/item//547297'>https://www.achterhoekfoto.nl/agenda/item//547297</a> || Al eeuwen worden in abdijen en kloosters dagelijks de getijden gebe­den of gezongen. Deze liturgie is daarbuiten in veel parochiekerken onbekend en onbe­kend maakt al gauw onbemind.Toch heeft deze vorm van liturgie een eigen aantrekkingskracht en bestaat er een alsmaar groeiende belangstelling voor deze meditatieve en spirituele vieringen.De Vespers zijn – naast de Lauden in de ochtend – de belangrijkste van de dagelijkse getijden.  Ze worden gebeden bij het overgaan van de dag naar de nacht wanneer de lichten worden ontstoken.Wij brengen dank aan God voor de voorbije dag en prijzen Zijn naam en geven de eer die Hem toekomt. De vespers in de maand mei  staan in het teken van moeder Maria. De Rooms-Katholieke Kerk heeft de maanden mei en oktober toegewijd aan Maria. De Mariadevotie in de meimaand is vanuit de parochies opgekomen in de middeleeuwen en begon in Italië. Deze devotie bestaat nog steeds tot op de dag van vandaag.In 1571 heeft paus Pius V bepaald dat rond 7 oktober het feest van Maria-rozenkrans zou worden gevierd. Eén dag in de maand oktober.De vespers in de Sint Jan worden in  het Latijn gezongen. Naast de psalmen zingt het koor enkele Mariahymnen.Met deze Vespers en de Getijdenvieringen wil het Gregoriaans Getijdenkoor Sint Jan het kostbare erfgoed van het Gregoriaans bewaren.Tijdens de viering zijn er tekstboekjes met zowel Latijnse- en Nederlandse teksten beschikbaar.Na afloop wordt een vrijwillige bijdrage op prijs gesteld. Hiermee kunnen wij de kosten van de dirigent, boekjes en kleding mede bekostigen.
LAST-MODIFIED:20260424T154553Z
LOCATION:Willibrorduskerk Vierakkersestraatweg 31 7233SE Vierakker
SEQUENCE:0
STATUS:CONFIRMED
SUMMARY:Maria Vespers door het Gregoriaans Getijdenkoor Sint Jan - Zutphen
TRANSP:OPAQUE
END:VEVENT
END:VCALENDAR
