BEGIN:VCALENDAR
PRODID:-//PUBBLE//an agenda//NL
VERSION:2.0
METHOD:PUBLISH
BEGIN:VEVENT
DTSTART:20260520T130000Z
DTEND:20260519T210000Z
DTSTAMP:20260424T141243Z
UID:bf768125-2bf8-44b7-a482-f70572046eaf
CREATED:20260424T141243Z
URL:https://www.achterhoekfoto.nl/agenda/item/547252
NAME:Vesper in de Stad: moment van rust AchterhoekFoto.nl
X-WR-CALNAME:Vesper in de Stad: moment van rust AchterhoekFoto.nl
X-ALT-DESC;FMTTYPE=text/html:<a href='https://www.achterhoekfoto.nl/agenda/item//547252'>https://achterhoekfoto.nl/agenda/item//547252</a> || <p>Elke woensdagmiddag is er een vesper in de Catharinakerk, in het centrum van Doetinchem. Deze begint om 17.00 uur en duurt een klein half uur. Vanaf half vijf ben je welkom voor koffie of thee.</p><p>De vesper is een half uur voor jezelf, om even op adem te komen na een drukke dag; om stil te zijn; om inspiratie te vinden in een tekst of een lied; om een kaarsje aan te steken voor iemand. Dit seizoen laten we ons, in de vesper, inspireren door het thema muziek. Het wekelijks terugkerende bezinningsmoment is een initiatief van de Protestantse Gemeente Doetinchem.</p>
DESCRIPTION:<a href='https://www.achterhoekfoto.nl/agenda/item//547252'>https://www.achterhoekfoto.nl/agenda/item//547252</a> || Elke woensdagmiddag is er een vesper in de Catharinakerk, in het centrum van Doetinchem. Deze begint om 17.00 uur en duurt een klein half uur. Vanaf half vijf ben je welkom voor koffie of thee.De vesper is een half uur voor jezelf, om even op adem te komen na een drukke dag; om stil te zijn; om inspiratie te vinden in een tekst of een lied; om een kaarsje aan te steken voor iemand. Dit seizoen laten we ons, in de vesper, inspireren door het thema muziek. Het wekelijks terugkerende bezinningsmoment is een initiatief van de Protestantse Gemeente Doetinchem.
LAST-MODIFIED:20260424T141243Z
LOCATION:Catharinakerk Simonsplein 25 7001BM Doetinchem
SEQUENCE:0
STATUS:CONFIRMED
SUMMARY:Vesper in de Stad: moment van rust
TRANSP:OPAQUE
END:VEVENT
END:VCALENDAR
