BEGIN:VCALENDAR
PRODID:-//PUBBLE//an agenda//NL
VERSION:2.0
METHOD:PUBLISH
BEGIN:VEVENT
DTSTART:20260812T160000Z
DTEND:20260812T174500Z
DTSTAMP:20260424T061440Z
UID:568a6734-c916-4ff3-9f14-1cb9e3476b2b
CREATED:20260424T061440Z
URL:https://www.achterhoekfoto.nl/agenda/item/547133
NAME:Theaterconcert It’s M.E. and Friends AchterhoekFoto.nl
X-WR-CALNAME:Theaterconcert It’s M.E. and Friends AchterhoekFoto.nl
X-ALT-DESC;FMTTYPE=text/html:<a href='https://www.achterhoekfoto.nl/agenda/item//547133'>https://achterhoekfoto.nl/agenda/item//547133</a> || <p><strong>It’s M.E. and Friends</strong> is een Trio van ervaren muzikanten, dat jazz, soul, pop en folk moeiteloos samenbrengt. Met zang en een rijke mix van instrumenten creëren zij een warm en afwisselend programma vol muzikaliteit, samenspel en zichtbaar speelplezier</p>
DESCRIPTION:<a href='https://www.achterhoekfoto.nl/agenda/item//547133'>https://www.achterhoekfoto.nl/agenda/item//547133</a> || It’s M.E. and Friends is een Trio van ervaren muzikanten, dat jazz, soul, pop en folk moeiteloos samenbrengt. Met zang en een rijke mix van instrumenten creëren zij een warm en afwisselend programma vol muzikaliteit, samenspel en zichtbaar speelplezier
LAST-MODIFIED:20260424T061440Z
LOCATION:Theater Onder de Molen Lindeseweg 29 7251NJ Vorden
SEQUENCE:0
STATUS:CONFIRMED
SUMMARY:Theaterconcert It’s M.E. and Friends
TRANSP:OPAQUE
END:VEVENT
END:VCALENDAR
