BEGIN:VCALENDAR
PRODID:-//PUBBLE//an agenda//NL
VERSION:2.0
METHOD:PUBLISH
BEGIN:VEVENT
DTSTART:20260805T160000Z
DTEND:20260805T174500Z
DTSTAMP:20260424T061609Z
UID:510e952e-9a46-4c52-992a-d0c3695d24ad
CREATED:20260424T061609Z
URL:https://www.achterhoekfoto.nl/agenda/item/547132
NAME:Theaterconcert Blue Jamm AchterhoekFoto.nl
X-WR-CALNAME:Theaterconcert Blue Jamm AchterhoekFoto.nl
X-ALT-DESC;FMTTYPE=text/html:<a href='https://www.achterhoekfoto.nl/agenda/item//547132'>https://achterhoekfoto.nl/agenda/item//547132</a> || <p>In een sfeervolle repetitieruimte in Eefde speelt&nbsp;<strong>Blue Jamm</strong>&nbsp;een energieke mix van blues, blues-rock en countryblues. Vier ervaren muzikanten brengen hun rijke muzikale achtergronden samen in een band met een herkenbare, eigen sound.</p><p>Gitarist en zanger&nbsp;<strong>Paul Scholten</strong>&nbsp;vormt met zijn karakteristieke stem en afwisselend stevige solo’s en subtiele akoestische passages het muzikale gezicht van de band.&nbsp;<strong>Fons van der Mee</strong>, opgegroeid in een muzikaal gezin, zorgt met zijn dynamische spel voor een strak en stevig ritme.&nbsp;<strong>Ronald Arentsen</strong>&nbsp;geeft de muziek extra diepte met zijn Hammond-orgel en warme Leslie-klanken, soms aangevuld met piano. <strong>Bassist Hans</strong>&nbsp;brengt decennia aan bandervaring mee, van bluesrock tot studio-opnames.</p><p>Samen staat Blue Jamm voor muziek vol ervaring, passie en een onweerstaanbare groove.</p>
DESCRIPTION:<a href='https://www.achterhoekfoto.nl/agenda/item//547132'>https://www.achterhoekfoto.nl/agenda/item//547132</a> || In een sfeervolle repetitieruimte in Eefde speelt Blue Jamm een energieke mix van blues, blues-rock en countryblues. Vier ervaren muzikanten brengen hun rijke muzikale achtergronden samen in een band met een herkenbare, eigen sound.Gitarist en zanger Paul Scholten vormt met zijn karakteristieke stem en afwisselend stevige solo’s en subtiele akoestische passages het muzikale gezicht van de band. Fons van der Mee, opgegroeid in een muzikaal gezin, zorgt met zijn dynamische spel voor een strak en stevig ritme. Ronald Arentsen geeft de muziek extra diepte met zijn Hammond-orgel en warme Leslie-klanken, soms aangevuld met piano. Bassist Hans brengt decennia aan bandervaring mee, van bluesrock tot studio-opnames.Samen staat Blue Jamm voor muziek vol ervaring, passie en een onweerstaanbare groove.
LAST-MODIFIED:20260424T061609Z
LOCATION:Theater Onder de Molen Lindeseweg 29 7251NJ Vorden
SEQUENCE:0
STATUS:CONFIRMED
SUMMARY:Theaterconcert Blue Jamm
TRANSP:OPAQUE
END:VEVENT
END:VCALENDAR
