BEGIN:VCALENDAR
PRODID:-//PUBBLE//an agenda//NL
VERSION:2.0
METHOD:PUBLISH
BEGIN:VEVENT
DTSTART:20260729T160000Z
DTEND:20260729T174500Z
DTSTAMP:20260424T061532Z
UID:52b5eb41-c0f5-4d82-8bb8-ef3ca829943f
CREATED:20260424T061532Z
URL:https://www.achterhoekfoto.nl/agenda/item/547131
NAME:Theaterconcert Mademoiselle Vaque AchterhoekFoto.nl
X-WR-CALNAME:Theaterconcert Mademoiselle Vaque AchterhoekFoto.nl
X-ALT-DESC;FMTTYPE=text/html:<a href='https://www.achterhoekfoto.nl/agenda/item//547131'>https://achterhoekfoto.nl/agenda/item//547131</a> || <p>Un soir d’été – Franse chansons onder de molen</p><p>De Franse zangeres&nbsp;Mademoiselle Vague&nbsp;brengt samen met gitarist Marco van Koppenhagen een sfeervol programma vol&nbsp;chanson française. In een intieme setting nemen zij het publiek mee naar de wereld van het Franse lied: van licht en speels tot melancholisch en poëtisch.</p><p>Met warme zang en akoestische gitaar geeft Mademoiselle Vague bekende chansons een persoonlijke, pure uitvoering. Naast eigen werk vertolkt zij klassiekers van onder anderen Édith Piaf, Charles Aznavour, Serge Gainsbourg, Georges Brassens en Charles Trenet.</p><p>In deze akoestische bewerkingen blijven de melodie, emotie en herkenbaarheid van de originele chansons volledig intact. Het resultaat is een warme, zomerse avond vol Franse sfeer, waarin het publiek wordt meegenomen naar het Parijs van toen en nu</p>
DESCRIPTION:<a href='https://www.achterhoekfoto.nl/agenda/item//547131'>https://www.achterhoekfoto.nl/agenda/item//547131</a> || Un soir d’été – Franse chansons onder de molenDe Franse zangeres Mademoiselle Vague brengt samen met gitarist Marco van Koppenhagen een sfeervol programma vol chanson française. In een intieme setting nemen zij het publiek mee naar de wereld van het Franse lied: van licht en speels tot melancholisch en poëtisch.Met warme zang en akoestische gitaar geeft Mademoiselle Vague bekende chansons een persoonlijke, pure uitvoering. Naast eigen werk vertolkt zij klassiekers van onder anderen Édith Piaf, Charles Aznavour, Serge Gainsbourg, Georges Brassens en Charles Trenet.In deze akoestische bewerkingen blijven de melodie, emotie en herkenbaarheid van de originele chansons volledig intact. Het resultaat is een warme, zomerse avond vol Franse sfeer, waarin het publiek wordt meegenomen naar het Parijs van toen en nu
LAST-MODIFIED:20260424T061532Z
LOCATION:Theater Onder de Molen Lindeseweg 29 7251NJ Vorden
SEQUENCE:0
STATUS:CONFIRMED
SUMMARY:Theaterconcert Mademoiselle Vaque
TRANSP:OPAQUE
END:VEVENT
END:VCALENDAR
