BEGIN:VCALENDAR
PRODID:-//PUBBLE//an agenda//NL
VERSION:2.0
METHOD:PUBLISH
BEGIN:VEVENT
DTSTART:20260722T160000Z
DTEND:20260722T174500Z
DTSTAMP:20260424T061532Z
UID:8008b59c-74ae-40de-8f50-349e0e8d7621
CREATED:20260424T061532Z
URL:https://www.achterhoekfoto.nl/agenda/item/547130
NAME:Theaterconcert VanBrink AchterhoekFoto.nl
X-WR-CALNAME:Theaterconcert VanBrink AchterhoekFoto.nl
X-ALT-DESC;FMTTYPE=text/html:<a href='https://www.achterhoekfoto.nl/agenda/item//547130'>https://achterhoekfoto.nl/agenda/item//547130</a> || <p>De Ruurlose band ‘VanBrink’ &nbsp;maakte er vorig jaar een mooi feest van, tijdens én na hun optreden in het theater Onder de Molen, reden genoeg om hen wederom op het podium te vragen. &nbsp;De band bestaat uit Jeroen en Veronie van Duren (gitaar, keyboard en zang) &nbsp;en de broers Bas en Geert Brinkerink (sax en zang) aangevuld met Peter Tesselaar (gitaar).</p><p>Met Geert als charismatische zanger, ondersteund door enthousiaste muzikanten, staat de band garant voor een verrassende uitvoering van songs uit allerlei muziekgenres, waarbij muzikaliteit hand in hand gaat met plezier!&nbsp;</p>
DESCRIPTION:<a href='https://www.achterhoekfoto.nl/agenda/item//547130'>https://www.achterhoekfoto.nl/agenda/item//547130</a> || De Ruurlose band ‘VanBrink’  maakte er vorig jaar een mooi feest van, tijdens én na hun optreden in het theater Onder de Molen, reden genoeg om hen wederom op het podium te vragen.  De band bestaat uit Jeroen en Veronie van Duren (gitaar, keyboard en zang)  en de broers Bas en Geert Brinkerink (sax en zang) aangevuld met Peter Tesselaar (gitaar).Met Geert als charismatische zanger, ondersteund door enthousiaste muzikanten, staat de band garant voor een verrassende uitvoering van songs uit allerlei muziekgenres, waarbij muzikaliteit hand in hand gaat met plezier! 
LAST-MODIFIED:20260424T061532Z
LOCATION:Theater Onder de Molen Lindeseweg 29 7251NJ Vorden
SEQUENCE:0
STATUS:CONFIRMED
SUMMARY:Theaterconcert VanBrink
TRANSP:OPAQUE
END:VEVENT
END:VCALENDAR
