BEGIN:VCALENDAR
PRODID:-//PUBBLE//an agenda//NL
VERSION:2.0
METHOD:PUBLISH
BEGIN:VEVENT
DTSTART:20260715T160000Z
DTEND:20260715T174500Z
DTSTAMP:20260424T045917Z
UID:d4ccb26b-042d-415f-889a-1b719cbde384
CREATED:20260424T045917Z
URL:https://www.achterhoekfoto.nl/agenda/item/547129
NAME:Theaterconcert Outbound Scallywag Carnival AchterhoekFoto.nl
X-WR-CALNAME:Theaterconcert Outbound Scallywag Carnival AchterhoekFoto.nl
X-ALT-DESC;FMTTYPE=text/html:<a href='https://www.achterhoekfoto.nl/agenda/item//547129'>https://achterhoekfoto.nl/agenda/item//547129</a> || <p><strong>The Outbound Scallywag Carnival</strong> – rauw, oprecht en onweerstaanbaar meeslepend</p><p>Love and joy, heartache and pain –&nbsp;The Outbound Scallywag Carnival&nbsp;brengt het allemaal.&nbsp;Al meer dan tien jaar serveert deze band een rijk palet aan countrymuziek, recht uit het hart en met een flinke scheut karakter.</p><p>Vanaf hun ‘front porch’ op de kale zandgronden van Lintelo trekken ze het land door, gewapend met pedal steel, Telecaster, mondharmonica en contrabas. Voeg daar een gezonde dosis humor aan toe en je hebt een optreden dat zowel muzikaal als sfeervol raakt.</p><p>Een avond met The OSC voelt als een stap terug in de tijd. Je waant je in een stoffige houten saloon in het Wilde Westen, waar de geur van whiskey in de lucht hangt en de klanken van de pedal steel je direct meenemen. Tussen de nummers door vliegen de anekdotes je om de oren en hoor je de persoonlijke verhalen achter de muziek – alsof je zelf stamgast bent in deze muzikale kroeg.</p><p>Verwacht een avond vol energie, sfeer en speelplezier. Dus kom uit je rocking chair en mis het niet… be there or be square!</p>
DESCRIPTION:<a href='https://www.achterhoekfoto.nl/agenda/item//547129'>https://www.achterhoekfoto.nl/agenda/item//547129</a> || The Outbound Scallywag Carnival – rauw, oprecht en onweerstaanbaar meeslependLove and joy, heartache and pain – The Outbound Scallywag Carnival brengt het allemaal. Al meer dan tien jaar serveert deze band een rijk palet aan countrymuziek, recht uit het hart en met een flinke scheut karakter.Vanaf hun ‘front porch’ op de kale zandgronden van Lintelo trekken ze het land door, gewapend met pedal steel, Telecaster, mondharmonica en contrabas. Voeg daar een gezonde dosis humor aan toe en je hebt een optreden dat zowel muzikaal als sfeervol raakt.Een avond met The OSC voelt als een stap terug in de tijd. Je waant je in een stoffige houten saloon in het Wilde Westen, waar de geur van whiskey in de lucht hangt en de klanken van de pedal steel je direct meenemen. Tussen de nummers door vliegen de anekdotes je om de oren en hoor je de persoonlijke verhalen achter de muziek – alsof je zelf stamgast bent in deze muzikale kroeg.Verwacht een avond vol energie, sfeer en speelplezier. Dus kom uit je rocking chair en mis het niet… be there or be square!
LAST-MODIFIED:20260424T045917Z
LOCATION:Theater Onder de Molen Lindeseweg 29 7251NJ Vorden
SEQUENCE:0
STATUS:CONFIRMED
SUMMARY:Theaterconcert Outbound Scallywag Carnival
TRANSP:OPAQUE
END:VEVENT
END:VCALENDAR
