BEGIN:VCALENDAR
PRODID:-//PUBBLE//an agenda//NL
VERSION:2.0
METHOD:PUBLISH
BEGIN:VEVENT
DTSTART:20260708T160000Z
DTEND:20260708T174500Z
DTSTAMP:20260424T061601Z
UID:994a9bf5-c65d-47fd-b514-950df48e25cd
CREATED:20260424T061601Z
URL:https://www.achterhoekfoto.nl/agenda/item/547128
NAME:Theaterconcert Huub Ruel: “Löp Wa Los!” AchterhoekFoto.nl
X-WR-CALNAME:Theaterconcert Huub Ruel: “Löp Wa Los!” AchterhoekFoto.nl
X-ALT-DESC;FMTTYPE=text/html:<a href='https://www.achterhoekfoto.nl/agenda/item//547128'>https://achterhoekfoto.nl/agenda/item//547128</a> || <p>Lop Wa Los! Zo is dat! Huub Ruel is een Twentstalige countrypop-zanger en liedjesschrijver. Geboren boerenzoon die uiteindelijk de wetenschap in ging. Huub werkte bij universiteiten in binnen- en buitenland, waaronder in Koeweit en Libanon, maar hing een paar jaar geleden de academische tas aan de Twentse wilgen. Huub herontdekte zijn moedertaal, het Twents en begon nummers te schrijven en te zingen. Gewapend met zijn akoestische gitaar neemt Huub Ruel het publiek mee langs het pad van zijn leven, van geboortegrond naar de internationale wetenschap en weer terug bij de melkkoeien. In het programma ‘Lop Wa Los’ speelt Huub zijn eigen Twentstalige/Nedersaksische countrypop songs met mooie teksten en introduceert ze met humorvolle anekdotes en ervaringen. Meezingen gegarandeerd evenals momenten vol gevoel en reflectie. </p>
DESCRIPTION:<a href='https://www.achterhoekfoto.nl/agenda/item//547128'>https://www.achterhoekfoto.nl/agenda/item//547128</a> || Lop Wa Los! Zo is dat! Huub Ruel is een Twentstalige countrypop-zanger en liedjesschrijver. Geboren boerenzoon die uiteindelijk de wetenschap in ging. Huub werkte bij universiteiten in binnen- en buitenland, waaronder in Koeweit en Libanon, maar hing een paar jaar geleden de academische tas aan de Twentse wilgen. Huub herontdekte zijn moedertaal, het Twents en begon nummers te schrijven en te zingen. Gewapend met zijn akoestische gitaar neemt Huub Ruel het publiek mee langs het pad van zijn leven, van geboortegrond naar de internationale wetenschap en weer terug bij de melkkoeien. In het programma ‘Lop Wa Los’ speelt Huub zijn eigen Twentstalige/Nedersaksische countrypop songs met mooie teksten en introduceert ze met humorvolle anekdotes en ervaringen. Meezingen gegarandeerd evenals momenten vol gevoel en reflectie. 
LAST-MODIFIED:20260424T061601Z
LOCATION:Theater Onder de Molen Lindeseweg 29 7251NJ Vorden
SEQUENCE:0
STATUS:CONFIRMED
SUMMARY:Theaterconcert Huub Ruel: “Löp Wa Los!”
TRANSP:OPAQUE
END:VEVENT
END:VCALENDAR
