BEGIN:VCALENDAR
PRODID:-//PUBBLE//an agenda//NL
VERSION:2.0
METHOD:PUBLISH
BEGIN:VEVENT
DTSTART:20260701T160000Z
DTEND:20260701T174000Z
DTSTAMP:20260424T061602Z
UID:0c2c6bd3-dd7e-4d6f-b0b2-c639fd21c433
CREATED:20260424T061602Z
URL:https://www.achterhoekfoto.nl/agenda/item/547127
NAME:Theaterconcert Upside Downtown AchterhoekFoto.nl
X-WR-CALNAME:Theaterconcert Upside Downtown AchterhoekFoto.nl
X-ALT-DESC;FMTTYPE=text/html:<a href='https://www.achterhoekfoto.nl/agenda/item//547127'>https://achterhoekfoto.nl/agenda/item//547127</a> || <p>Upside-DownTown wordt gevormd door 5 enthousiaste muzikanten met een passie voor Americana muziek. Met hun voorstelling ‘Make it through this World’ brengen ze een tribute aan Greg Trooper, waarbij ze het publiek meenemen op ‘zijn reis’. Met een bezetting bestaande uit percussie, bas, rythm en leadgitaar, slide, mandoline, toetsen en veel aandacht voor meerstemmige vocals brengen ze een afwisselend repertoire. Rustige en gevoelige ballads worden afgewisseld met up-tempo nummers. Naast muziek van Greg Trooper komen liedjes van artiesten als Johny Cash, Eagles, Bruce Springsteen en CCR voorbij. Voor iedereen die houdt van country, americana en roots een ‘must- see’! </p>
DESCRIPTION:<a href='https://www.achterhoekfoto.nl/agenda/item//547127'>https://www.achterhoekfoto.nl/agenda/item//547127</a> || Upside-DownTown wordt gevormd door 5 enthousiaste muzikanten met een passie voor Americana muziek. Met hun voorstelling ‘Make it through this World’ brengen ze een tribute aan Greg Trooper, waarbij ze het publiek meenemen op ‘zijn reis’. Met een bezetting bestaande uit percussie, bas, rythm en leadgitaar, slide, mandoline, toetsen en veel aandacht voor meerstemmige vocals brengen ze een afwisselend repertoire. Rustige en gevoelige ballads worden afgewisseld met up-tempo nummers. Naast muziek van Greg Trooper komen liedjes van artiesten als Johny Cash, Eagles, Bruce Springsteen en CCR voorbij. Voor iedereen die houdt van country, americana en roots een ‘must- see’! 
LAST-MODIFIED:20260424T061602Z
LOCATION:Theater Onder de Molen Lindeseweg 29 7251NJ Vorden
SEQUENCE:0
STATUS:CONFIRMED
SUMMARY:Theaterconcert Upside Downtown
TRANSP:OPAQUE
END:VEVENT
END:VCALENDAR
