BEGIN:VCALENDAR
PRODID:-//PUBBLE//an agenda//NL
VERSION:2.0
METHOD:PUBLISH
BEGIN:VEVENT
DTSTART:20260502T123000Z
DTEND:20260502T131500Z
DTSTAMP:20260424T141355Z
UID:c8f4f97c-84ca-4e38-b78f-cf014c6e1e8f
CREATED:20260424T141355Z
URL:https://www.achterhoekfoto.nl/agenda/item/547126
NAME:Andacht in teken van herdenken en herinneren AchterhoekFoto.nl
X-WR-CALNAME:Andacht in teken van herdenken en herinneren AchterhoekFoto.nl
X-ALT-DESC;FMTTYPE=text/html:<a href='https://www.achterhoekfoto.nl/agenda/item//547126'>https://achterhoekfoto.nl/agenda/item//547126</a> || <p>DOETINCHEM - Op zaterdag 2 mei is in de Catharinakerk een Andacht met als titel ‘With our lives we give life’. Deze tekst komt terug in een van de liederen die gespeeld worden. Er klinkt muziek uit Schindler’s List van John Williams en uit het Requiem for Humanity van Helen Ostafew. &nbsp;Liesbeth Meij leest inspirerende teksten voor. De Andacht wordt afgesloten met het mooie duet ‘Oh lovely peace’ uit Judas Maccabeus van G.F. Hӓndel.</p><p>Met medewerking van Elske te Lindert (sopraan en vleugel) en Nicoline Tammes (alt).</p><p>Dit is de laatste Andacht van het seizoen, aanvang: 16.30 uur. De kerk is open vanaf 16.15 uur, vrije gift bij de uitgang.</p><p>www.pg-doetinchem.nl</p>
DESCRIPTION:<a href='https://www.achterhoekfoto.nl/agenda/item//547126'>https://www.achterhoekfoto.nl/agenda/item//547126</a> || DOETINCHEM - Op zaterdag 2 mei is in de Catharinakerk een Andacht met als titel ‘With our lives we give life’. Deze tekst komt terug in een van de liederen die gespeeld worden. Er klinkt muziek uit Schindler’s List van John Williams en uit het Requiem for Humanity van Helen Ostafew.  Liesbeth Meij leest inspirerende teksten voor. De Andacht wordt afgesloten met het mooie duet ‘Oh lovely peace’ uit Judas Maccabeus van G.F. Hӓndel.Met medewerking van Elske te Lindert (sopraan en vleugel) en Nicoline Tammes (alt).Dit is de laatste Andacht van het seizoen, aanvang: 16.30 uur. De kerk is open vanaf 16.15 uur, vrije gift bij de uitgang.www.pg-doetinchem.nl
LAST-MODIFIED:20260424T141355Z
LOCATION:Catharinakerk Simonsplein 25 7001BM Doetinchem
SEQUENCE:0
STATUS:CONFIRMED
SUMMARY:Andacht in teken van herdenken en herinneren
TRANSP:OPAQUE
END:VEVENT
END:VCALENDAR
