BEGIN:VCALENDAR
PRODID:-//PUBBLE//an agenda//NL
VERSION:2.0
METHOD:PUBLISH
BEGIN:VEVENT
DTSTART:20260503T060000Z
DTEND:20260502T210000Z
DTSTAMP:20260424T035419Z
UID:593680d0-eb8e-45de-8f8f-2a4b48614524
CREATED:20260424T035419Z
URL:https://www.achterhoekfoto.nl/agenda/item/547090
NAME:Ds. Maas Beitler uit Castricum AchterhoekFoto.nl
X-WR-CALNAME:Ds. Maas Beitler uit Castricum AchterhoekFoto.nl
X-ALT-DESC;FMTTYPE=text/html:<a href='https://www.achterhoekfoto.nl/agenda/item//547090'>https://achterhoekfoto.nl/agenda/item//547090</a> || <p>U bent van harte welkom in deze dienst! Collecten zijn voor Kerk in Actie Noodhulp Myanmar en Vorming en toerusting. Meevieren kan via www.pgvorden.nl optie ‘Thuis meevieren’ bij ‘Diensten’. U kunt de dienst ook volgen op de app ‘Kerkdienst Gemist’ op uw tablet of smartphone. Na afloop bent u welkom bij de koffie.</p>
DESCRIPTION:<a href='https://www.achterhoekfoto.nl/agenda/item//547090'>https://www.achterhoekfoto.nl/agenda/item//547090</a> || U bent van harte welkom in deze dienst! Collecten zijn voor Kerk in Actie Noodhulp Myanmar en Vorming en toerusting. Meevieren kan via www.pgvorden.nl optie ‘Thuis meevieren’ bij ‘Diensten’. U kunt de dienst ook volgen op de app ‘Kerkdienst Gemist’ op uw tablet of smartphone. Na afloop bent u welkom bij de koffie.
LAST-MODIFIED:20260424T035419Z
LOCATION:Dorpskerk Vorden Kerkstraat 4 7251BC Vorden
SEQUENCE:0
STATUS:CONFIRMED
SUMMARY:Ds. Maas Beitler uit Castricum
TRANSP:OPAQUE
END:VEVENT
END:VCALENDAR
