BEGIN:VCALENDAR
PRODID:-//PUBBLE//an agenda//NL
VERSION:2.0
METHOD:PUBLISH
BEGIN:VEVENT
DTSTART:20260520T160000Z
DTEND:20260520T173000Z
DTSTAMP:20260424T154508Z
UID:9ec57886-1254-4cf3-9014-98729ef971f3
CREATED:20260424T154508Z
URL:https://www.achterhoekfoto.nl/agenda/item/547078
NAME:Samen afsluiten: De laatste Pray & Praise van het seizoen AchterhoekFoto.nl
X-WR-CALNAME:Samen afsluiten: De laatste Pray & Praise van het seizoen AchterhoekFoto.nl
X-ALT-DESC;FMTTYPE=text/html:<a href='https://www.achterhoekfoto.nl/agenda/item//547078'>https://achterhoekfoto.nl/agenda/item//547078</a> || <p>Op woensdag 20 mei hebben we alweer de laatste Pray &amp; Praise van een prachtig seizoen vol ontmoeting, gebed en aanbidding. We kijken met dankbaarheid terug op de bijzondere avonden die we achter de rug hebben en willen dit seizoen graag samen met jou afsluiten door onze stemmen te verheffen voor onze Heer:</p><p><em>“Loof de Heer, alle volken, prijs Hem, alle naties. Want zijn liefde voor ons is overstelpend, de trouw van de Heer houdt eeuwig stand. Halleluja!” (Psalm 117:1-2)</em></p><p>Of je nu elke keer bent geweest of voor het eerst komt: je bent meer dan welkom. Laat je bemoedigen door de muziek, het gebed en de onderlinge verbondenheid. Laten we samen het Metzo College vullen met een loflied voor onze Maker!</p><p>Wanneer: Woensdag 20 mei&nbsp;</p><p>Tijd: 20.00 - 21.30 uur (inloop vanaf 19.45 uur)&nbsp;</p><p>Locatie: Metzo College</p>
DESCRIPTION:<a href='https://www.achterhoekfoto.nl/agenda/item//547078'>https://www.achterhoekfoto.nl/agenda/item//547078</a> || Op woensdag 20 mei hebben we alweer de laatste Pray & Praise van een prachtig seizoen vol ontmoeting, gebed en aanbidding. We kijken met dankbaarheid terug op de bijzondere avonden die we achter de rug hebben en willen dit seizoen graag samen met jou afsluiten door onze stemmen te verheffen voor onze Heer:“Loof de Heer, alle volken, prijs Hem, alle naties. Want zijn liefde voor ons is overstelpend, de trouw van de Heer houdt eeuwig stand. Halleluja!” (Psalm 117:1-2)Of je nu elke keer bent geweest of voor het eerst komt: je bent meer dan welkom. Laat je bemoedigen door de muziek, het gebed en de onderlinge verbondenheid. Laten we samen het Metzo College vullen met een loflied voor onze Maker!Wanneer: Woensdag 20 mei Tijd: 20.00 - 21.30 uur (inloop vanaf 19.45 uur) Locatie: Metzo College
LAST-MODIFIED:20260424T154508Z
LOCATION:Metzo College Maria Montessoristraat 5 7008ca Doetinchem
SEQUENCE:0
STATUS:CONFIRMED
SUMMARY:Samen afsluiten: De laatste Pray & Praise van het seizoen
TRANSP:OPAQUE
END:VEVENT
END:VCALENDAR
