BEGIN:VCALENDAR
PRODID:-//PUBBLE//an agenda//NL
VERSION:2.0
METHOD:PUBLISH
BEGIN:VEVENT
DTSTART:20260525T060000Z
DTEND:20260525T130000Z
DTSTAMP:20260422T201553Z
UID:b32dfb76-824a-4496-a89b-bad9083096e2
CREATED:20260422T201553Z
URL:https://www.achterhoekfoto.nl/agenda/item/547056
NAME:Internationale Pinksterboekenmarkt AchterhoekFoto.nl
X-WR-CALNAME:Internationale Pinksterboekenmarkt AchterhoekFoto.nl
X-ALT-DESC;FMTTYPE=text/html:<a href='https://www.achterhoekfoto.nl/agenda/item//547056'>https://achterhoekfoto.nl/agenda/item//547056</a> || <p>Op Tweede Pinksterdag, maandag 25 mei, vindt de Internationale Pinkster Boekenmarkt plaats op het buitenterrein van culturele vrijplaats de Koppelkerk in boekenstadje Bredevoort.</p><p>Diverse Nederlandse en Duitse boekhandelaren bieden hun boeken aan. Van 10.00 tot 17.00 uur kunnen boekenliefhebbers hun hart ophalen op het buitenterrein van de Koppelkerk.</p><p>Bredevoort Boekenstad organiseert vijfmaal per jaar een grote Internationale Boekenmarkt bij de Koppelkerk. Het aanbod is gevarieerd zodat er voor elke lezer iets te ontdekken is, van zeldzame uitgaven tot populaire bestsellers. Naast literatuur bestaat het aanbod uit poëzie, reisboeken, stripboeken, kinderboeken, kunstboeken en nog veel meer. Zelfs oude tijdschriften en ansichtkaarten zijn er te vinden. De boekenmarkten bij de Koppelkerk hebben een internationaal karakter. Dit betekent dat er ook handelaren en boeken uit andere landen te vinden zijn, met name uit Duitsland.&nbsp;</p>
DESCRIPTION:<a href='https://www.achterhoekfoto.nl/agenda/item//547056'>https://www.achterhoekfoto.nl/agenda/item//547056</a> || Op Tweede Pinksterdag, maandag 25 mei, vindt de Internationale Pinkster Boekenmarkt plaats op het buitenterrein van culturele vrijplaats de Koppelkerk in boekenstadje Bredevoort.Diverse Nederlandse en Duitse boekhandelaren bieden hun boeken aan. Van 10.00 tot 17.00 uur kunnen boekenliefhebbers hun hart ophalen op het buitenterrein van de Koppelkerk.Bredevoort Boekenstad organiseert vijfmaal per jaar een grote Internationale Boekenmarkt bij de Koppelkerk. Het aanbod is gevarieerd zodat er voor elke lezer iets te ontdekken is, van zeldzame uitgaven tot populaire bestsellers. Naast literatuur bestaat het aanbod uit poëzie, reisboeken, stripboeken, kinderboeken, kunstboeken en nog veel meer. Zelfs oude tijdschriften en ansichtkaarten zijn er te vinden. De boekenmarkten bij de Koppelkerk hebben een internationaal karakter. Dit betekent dat er ook handelaren en boeken uit andere landen te vinden zijn, met name uit Duitsland. 
LAST-MODIFIED:20260422T201553Z
LOCATION:Koppelkerk - vrijplaats voor kunst & cultuur Koppelstraat 35 7126AG Bredevoort
SEQUENCE:0
STATUS:CONFIRMED
SUMMARY:Internationale Pinksterboekenmarkt
TRANSP:OPAQUE
END:VEVENT
END:VCALENDAR
