BEGIN:VCALENDAR
PRODID:-//PUBBLE//an agenda//NL
VERSION:2.0
METHOD:PUBLISH
BEGIN:VEVENT
DTSTART:20260717T070000Z
DTEND:20260717T124500Z
DTSTAMP:20260424T035311Z
UID:1a2bbf2c-1a7a-4580-9001-97b270d5f6bc
CREATED:20260424T035311Z
URL:https://www.achterhoekfoto.nl/agenda/item/547003
NAME:Duo-Expositie Beelden en Schilderijen AchterhoekFoto.nl
X-WR-CALNAME:Duo-Expositie Beelden en Schilderijen AchterhoekFoto.nl
X-ALT-DESC;FMTTYPE=text/html:<a href='https://www.achterhoekfoto.nl/agenda/item//547003'>https://achterhoekfoto.nl/agenda/item//547003</a> || <p>In een Duo-Expositie van Beelden en Schilderijen willen Annelies Wolbrink (Beelden) en Jolanda Arntz (Schilderijen) U graag hun werken laten zien.</p><p>Beiden werken op geheel eigen wijze met gemengde technieken en kleurgebruik.</p><p>Laat U verrassen door deze leuke Expositie.</p>
DESCRIPTION:<a href='https://www.achterhoekfoto.nl/agenda/item//547003'>https://www.achterhoekfoto.nl/agenda/item//547003</a> || In een Duo-Expositie van Beelden en Schilderijen willen Annelies Wolbrink (Beelden) en Jolanda Arntz (Schilderijen) U graag hun werken laten zien.Beiden werken op geheel eigen wijze met gemengde technieken en kleurgebruik.Laat U verrassen door deze leuke Expositie.
LAST-MODIFIED:20260424T035311Z
LOCATION:Dorpskerk Vorden Kerkstraat 4 7251BC Vorden
SEQUENCE:0
STATUS:CONFIRMED
SUMMARY:Duo-Expositie Beelden en Schilderijen
TRANSP:OPAQUE
END:VEVENT
END:VCALENDAR
