BEGIN:VCALENDAR
PRODID:-//PUBBLE//an agenda//NL
VERSION:2.0
METHOD:PUBLISH
BEGIN:VEVENT
DTSTART:20260715T070000Z
DTEND:20260715T124500Z
DTSTAMP:20260424T035322Z
UID:c3f9c82b-f240-429a-a413-0a3b75fc6363
CREATED:20260424T035322Z
URL:https://www.achterhoekfoto.nl/agenda/item/546992
NAME:Duo-Expositie Beelden en Schilderijen. AchterhoekFoto.nl
X-WR-CALNAME:Duo-Expositie Beelden en Schilderijen. AchterhoekFoto.nl
X-ALT-DESC;FMTTYPE=text/html:<a href='https://www.achterhoekfoto.nl/agenda/item//546992'>https://achterhoekfoto.nl/agenda/item//546992</a> || <p>In een Duo-Expositie van Beelden en Schilderijen willen Annelies Wolbrink (Beelden) en Jolanda Arntz (schilderijen) U graag hun werken laten zien.</p><p>Beiden werken op geheel eigen wijze met gemengde technieken en kleurgebruik.</p><p>Laat U verrassen door deze leuke Expositie.</p>
DESCRIPTION:<a href='https://www.achterhoekfoto.nl/agenda/item//546992'>https://www.achterhoekfoto.nl/agenda/item//546992</a> || In een Duo-Expositie van Beelden en Schilderijen willen Annelies Wolbrink (Beelden) en Jolanda Arntz (schilderijen) U graag hun werken laten zien.Beiden werken op geheel eigen wijze met gemengde technieken en kleurgebruik.Laat U verrassen door deze leuke Expositie.
LAST-MODIFIED:20260424T035322Z
LOCATION:Dorpskerk Vorden Kerkstraat 4 7251BC Vorden
SEQUENCE:0
STATUS:CONFIRMED
SUMMARY:Duo-Expositie Beelden en Schilderijen.
TRANSP:OPAQUE
END:VEVENT
END:VCALENDAR
