BEGIN:VCALENDAR
PRODID:-//PUBBLE//an agenda//NL
VERSION:2.0
METHOD:PUBLISH
BEGIN:VEVENT
DTSTART:20260530T090000Z
DTEND:20260530T203000Z
DTSTAMP:20260424T072645Z
UID:97c247ac-689b-47ef-a0d2-8688b0e26279
CREATED:20260424T072645Z
URL:https://www.achterhoekfoto.nl/agenda/item/546924
NAME:5e editie van Razernij in de Gaanderhei AchterhoekFoto.nl
X-WR-CALNAME:5e editie van Razernij in de Gaanderhei AchterhoekFoto.nl
X-ALT-DESC;FMTTYPE=text/html:<a href='https://www.achterhoekfoto.nl/agenda/item//546924'>https://achterhoekfoto.nl/agenda/item//546924</a> || <p>De 5e ‘Razernij in Gaanderhei’ volledig belangeloos voor KWF</p><p>Op 30 mei 2026 staat de Gaanderhei in het teken van de 5e editie van het festival Razernij in de Gaanderhei. Het evenement wordt volledig belangeloos georganiseerd, waarbij alle opbrengsten ten goede komen aan de KWF Kankerbestrijding. &nbsp;Artiesten en vrijwilligers zetten zich kosteloos in om zo veel mogelijk geld op te halen. In de middag treedt dit jaar ook onze lokale trots ‘Boh Foi Toch’ op.&nbsp;</p><p>Een razende beweging</p><p>Wat begon als een enthousiast buurtinitiatief is inmiddels uitgegroeid tot een ware razende beweging, met festivals in Waalwijk en Rekken. Ook hier blijft de Razernij-formule overeind: muziek, verbinding en belangeloos voor het goede doel.&nbsp;</p><p>‘Onmundig gemudelijk’</p><p>Razernij in de Gaanderhei staat bekend om zijn ‘onmundig gemudelijke’ sfeer, laagdrempelig, warm en voor iedereen toegankelijk. Bezoekers van alle leeftijden en achtergronden komen samen om te genieten van een gevarieerd muzikaal programma met meerdere bands en artiesten die belangeloos optreden.</p><p>Voor jong en oud</p><p>Razernij in de Gaanderhei biedt een combinatie van muziek, cultuur en gezelligheid voor jong en oud. Voor de kinderen tot en met 12 jaar is de entree gratis en zijn er leuke activiteiten zoals schminken, knutselen en een springkussen.&nbsp;</p><p>Alles voor het goede doel</p><p>De kracht van Razernij is de inzet van de bands, artiesten en alle vrijwilligers die zich belangeloos inzetten voor dit evenement. Dankzij hen en de sponsoren gaat de volledige opbrengst naar KWF Kankerbestrijding. Hier zal tijdens het festival ook aandacht aan worden besteed.</p><p>Bedrijven kunnen bijdragen door sponsor te worden van dit initiatief. Kijk voor meer informatie en tickets &nbsp;op www.razernijgaanderhei.nl&nbsp;</p>
DESCRIPTION:<a href='https://www.achterhoekfoto.nl/agenda/item//546924'>https://www.achterhoekfoto.nl/agenda/item//546924</a> || De 5e ‘Razernij in Gaanderhei’ volledig belangeloos voor KWFOp 30 mei 2026 staat de Gaanderhei in het teken van de 5e editie van het festival Razernij in de Gaanderhei. Het evenement wordt volledig belangeloos georganiseerd, waarbij alle opbrengsten ten goede komen aan de KWF Kankerbestrijding.  Artiesten en vrijwilligers zetten zich kosteloos in om zo veel mogelijk geld op te halen. In de middag treedt dit jaar ook onze lokale trots ‘Boh Foi Toch’ op. Een razende bewegingWat begon als een enthousiast buurtinitiatief is inmiddels uitgegroeid tot een ware razende beweging, met festivals in Waalwijk en Rekken. Ook hier blijft de Razernij-formule overeind: muziek, verbinding en belangeloos voor het goede doel. ‘Onmundig gemudelijk’Razernij in de Gaanderhei staat bekend om zijn ‘onmundig gemudelijke’ sfeer, laagdrempelig, warm en voor iedereen toegankelijk. Bezoekers van alle leeftijden en achtergronden komen samen om te genieten van een gevarieerd muzikaal programma met meerdere bands en artiesten die belangeloos optreden.Voor jong en oudRazernij in de Gaanderhei biedt een combinatie van muziek, cultuur en gezelligheid voor jong en oud. Voor de kinderen tot en met 12 jaar is de entree gratis en zijn er leuke activiteiten zoals schminken, knutselen en een springkussen. Alles voor het goede doelDe kracht van Razernij is de inzet van de bands, artiesten en alle vrijwilligers die zich belangeloos inzetten voor dit evenement. Dankzij hen en de sponsoren gaat de volledige opbrengst naar KWF Kankerbestrijding. Hier zal tijdens het festival ook aandacht aan worden besteed.Bedrijven kunnen bijdragen door sponsor te worden van dit initiatief. Kijk voor meer informatie en tickets  op www.razernijgaanderhei.nl 
LAST-MODIFIED:20260424T072645Z
LOCATION:Gaanderhei Peppelmansdijk 1a 7011jn Gaanderen
SEQUENCE:0
STATUS:CONFIRMED
SUMMARY:5e editie van Razernij in de Gaanderhei
TRANSP:OPAQUE
END:VEVENT
END:VCALENDAR
