BEGIN:VCALENDAR
PRODID:-//PUBBLE//an agenda//NL
VERSION:2.0
METHOD:PUBLISH
BEGIN:VEVENT
DTSTART:20260713T070000Z
DTEND:20260713T124500Z
DTSTAMP:20260424T061441Z
UID:ed68e0f6-4d34-49da-9a3f-84c7d04005e8
CREATED:20260424T061441Z
URL:https://www.achterhoekfoto.nl/agenda/item/546833
NAME:Duo-Expositie Beelden en Schilderijen AchterhoekFoto.nl
X-WR-CALNAME:Duo-Expositie Beelden en Schilderijen AchterhoekFoto.nl
X-ALT-DESC;FMTTYPE=text/html:<a href='https://www.achterhoekfoto.nl/agenda/item//546833'>https://achterhoekfoto.nl/agenda/item//546833</a> || <p>In een Duo-Expositie van Beelden en Schilderijen willen Annelies Wolbrink (Beelden) en Jolanda Arntz (Schilderijen) U graag hun werken laten zien.</p><p>Beiden werken op geheel eigen wijze met gemengde technieken en kleurgebruik.</p><p>Laat U verrassen door deze leuke Expositie.</p>
DESCRIPTION:<a href='https://www.achterhoekfoto.nl/agenda/item//546833'>https://www.achterhoekfoto.nl/agenda/item//546833</a> || In een Duo-Expositie van Beelden en Schilderijen willen Annelies Wolbrink (Beelden) en Jolanda Arntz (Schilderijen) U graag hun werken laten zien.Beiden werken op geheel eigen wijze met gemengde technieken en kleurgebruik.Laat U verrassen door deze leuke Expositie.
LAST-MODIFIED:20260424T061441Z
LOCATION:Dorpskerk  Kerkstraat 4 7251BC Vorden
SEQUENCE:0
STATUS:CONFIRMED
SUMMARY:Duo-Expositie Beelden en Schilderijen
TRANSP:OPAQUE
END:VEVENT
END:VCALENDAR
