BEGIN:VCALENDAR
PRODID:-//PUBBLE//an agenda//NL
VERSION:2.0
METHOD:PUBLISH
BEGIN:VEVENT
DTSTART:20260505T083000Z
DTEND:20260505T100000Z
DTSTAMP:20260424T153310Z
UID:d95d377a-bee7-4105-808a-4345c098225a
CREATED:20260424T153310Z
URL:https://www.achterhoekfoto.nl/agenda/item/546742
NAME:Vrijheidslunch bij het 50+ Ontmoetingspunt AchterhoekFoto.nl
X-WR-CALNAME:Vrijheidslunch bij het 50+ Ontmoetingspunt AchterhoekFoto.nl
X-ALT-DESC;FMTTYPE=text/html:<a href='https://www.achterhoekfoto.nl/agenda/item//546742'>https://achterhoekfoto.nl/agenda/item//546742</a> || <p>Op dinsdag 5 mei, Bevrijdingsdag, organiseert het 50+ Ontmoetingspunt voor de 2e keer een Vrijheidslunch. Ook dit keer kunnen maximaal 50 personen aansluiten bij deze (gratis) lunch. De Vrijheidssoep wordt dit jaar gekookt door Janny van der Heijden, bekend van de tv. Tijdens de Vrijheidsmaaltijden komen mensen door heel het land samen: in buurthuizen, sportkantines, kerken, bibliotheken, op de werkvloer of gewoon in het park om de hoek, om samen soep te eten en verhalen over vrijheid en onvrijheid uit te wisselen. Wilt u dit jaar aansluiten bij onze Vrijheidslunch, geef u dan op via info@seniorenontmoetingspunt.nl U hoort dan ook of er nog plaats is, want Vol = Vol</p><p>Inloop voor de lunch vanaf 12.00 uur, aanvang van de Vrijheidslunch om 12.30 uur.</p>
DESCRIPTION:<a href='https://www.achterhoekfoto.nl/agenda/item//546742'>https://www.achterhoekfoto.nl/agenda/item//546742</a> || Op dinsdag 5 mei, Bevrijdingsdag, organiseert het 50+ Ontmoetingspunt voor de 2e keer een Vrijheidslunch. Ook dit keer kunnen maximaal 50 personen aansluiten bij deze (gratis) lunch. De Vrijheidssoep wordt dit jaar gekookt door Janny van der Heijden, bekend van de tv. Tijdens de Vrijheidsmaaltijden komen mensen door heel het land samen: in buurthuizen, sportkantines, kerken, bibliotheken, op de werkvloer of gewoon in het park om de hoek, om samen soep te eten en verhalen over vrijheid en onvrijheid uit te wisselen. Wilt u dit jaar aansluiten bij onze Vrijheidslunch, geef u dan op via info@seniorenontmoetingspunt.nl U hoort dan ook of er nog plaats is, want Vol = VolInloop voor de lunch vanaf 12.00 uur, aanvang van de Vrijheidslunch om 12.30 uur.
LAST-MODIFIED:20260424T153310Z
LOCATION:50+ Ontmoetingspunt 't Brewinc IJsselkade 13 7001AN Doetinchem
SEQUENCE:0
STATUS:CONFIRMED
SUMMARY:Vrijheidslunch bij het 50+ Ontmoetingspunt
TRANSP:OPAQUE
END:VEVENT
END:VCALENDAR
