BEGIN:VCALENDAR
PRODID:-//PUBBLE//an agenda//NL
VERSION:2.0
METHOD:PUBLISH
BEGIN:VEVENT
DTSTART:20260503T123000Z
DTEND:20260503T134500Z
DTSTAMP:20260425T113948Z
UID:8075d35b-6575-4475-9283-d3295c7342e3
CREATED:20260425T113948Z
URL:https://www.achterhoekfoto.nl/agenda/item/546739
NAME:Recital Sofia Asghari sopraan en piano in Doopsgezind Kerkje AchterhoekFoto.nl
X-WR-CALNAME:Recital Sofia Asghari sopraan en piano in Doopsgezind Kerkje AchterhoekFoto.nl
X-ALT-DESC;FMTTYPE=text/html:<a href='https://www.achterhoekfoto.nl/agenda/item//546739'>https://achterhoekfoto.nl/agenda/item//546739</a> || <p>Van Herinnering naar Vrijheid: recital in Doopsgezind Kerkje met sopraan Sofia Ashgari</p><p>Op zondagmiddag 3 mei kunt u vanaf 16.30 3 mei kunt u vanaf 16.30 uur luisteren naar een herdenkingsrecital uitgevoerd door sopraan Sofia Asghari (2001) en Christopher Bruckmann (piano). Samen brengen zij een programma dat een muzikale weg volgt van herinnering en verlies naar herwonnen vrijheid en levensvreugde.&nbsp;</p><p>Op twaalfjarige leeftijd ontdekte Sofia de aria van de Koningin van de Nacht uit Die Zauberflöte, wat &nbsp;haar inspireerde om haar viool in te ruilen voor klassieke zang. Ze begon haar carrière als sopraan in de Jong Talent-klas van het ArtEZ Conservatorium in Zwolle. Inmiddels heeft zij haar bachelor klassiek zang aan de Folkwang Universiteit voor de Kunsten in Essen afgerond. &nbsp;Ze studeert daar nu voor haar masters. Asghari wordt tijdens dit concert in het Doopsgezind Kerkje begeleid door pianist Christopher Bruckmann met wie zij een prachtig op elkaar ingespeeld duo vormt.</p><p>In dit concert bewandelen zij samen de weg van de intimiteit van persoonlijke herinneringen in een vertilling die aansluit bij het moment van herdenken. Daarna verschuift de reflectieve stemming naar warmte en hoop. Het overwinnen van tegenslag uit zich muzikaal tot opluchting. &nbsp;Ten slotte viert de muziek het vreugdevolle leven in de aanloop naar Bevrijdingsdag.</p><p>Na het concert dat ongeveer een uur duurt is er gelegenheid om onder het genot van een drankje te spreken met elkaar en de musici. Kaarten voor dit zondagmiddagconcert zijn á &nbsp;€18 verkrijgbaar via de ticketservice van www.doopsgezindkerkje.nl en op zondagmiddag 3 mei aan de deur van het Doopsgezind Kerkje aan de Torenstraat 4 in Winterswijk. De deur gaat open vanaf 16.00 uur.</p>
DESCRIPTION:<a href='https://www.achterhoekfoto.nl/agenda/item//546739'>https://www.achterhoekfoto.nl/agenda/item//546739</a> || Van Herinnering naar Vrijheid: recital in Doopsgezind Kerkje met sopraan Sofia AshgariOp zondagmiddag 3 mei kunt u vanaf 16.30 3 mei kunt u vanaf 16.30 uur luisteren naar een herdenkingsrecital uitgevoerd door sopraan Sofia Asghari (2001) en Christopher Bruckmann (piano). Samen brengen zij een programma dat een muzikale weg volgt van herinnering en verlies naar herwonnen vrijheid en levensvreugde. Op twaalfjarige leeftijd ontdekte Sofia de aria van de Koningin van de Nacht uit Die Zauberflöte, wat  haar inspireerde om haar viool in te ruilen voor klassieke zang. Ze begon haar carrière als sopraan in de Jong Talent-klas van het ArtEZ Conservatorium in Zwolle. Inmiddels heeft zij haar bachelor klassiek zang aan de Folkwang Universiteit voor de Kunsten in Essen afgerond.  Ze studeert daar nu voor haar masters. Asghari wordt tijdens dit concert in het Doopsgezind Kerkje begeleid door pianist Christopher Bruckmann met wie zij een prachtig op elkaar ingespeeld duo vormt.In dit concert bewandelen zij samen de weg van de intimiteit van persoonlijke herinneringen in een vertilling die aansluit bij het moment van herdenken. Daarna verschuift de reflectieve stemming naar warmte en hoop. Het overwinnen van tegenslag uit zich muzikaal tot opluchting.  Ten slotte viert de muziek het vreugdevolle leven in de aanloop naar Bevrijdingsdag.Na het concert dat ongeveer een uur duurt is er gelegenheid om onder het genot van een drankje te spreken met elkaar en de musici. Kaarten voor dit zondagmiddagconcert zijn á  €18 verkrijgbaar via de ticketservice van www.doopsgezindkerkje.nl en op zondagmiddag 3 mei aan de deur van het Doopsgezind Kerkje aan de Torenstraat 4 in Winterswijk. De deur gaat open vanaf 16.00 uur.
LAST-MODIFIED:20260425T113948Z
LOCATION:Doopsgezind kerkje Winterswijk Torenstraat 4 7101DC Winterswijk
SEQUENCE:0
STATUS:CONFIRMED
SUMMARY:Recital Sofia Asghari sopraan en piano in Doopsgezind Kerkje
TRANSP:OPAQUE
END:VEVENT
END:VCALENDAR
