BEGIN:VCALENDAR
PRODID:-//PUBBLE//an agenda//NL
VERSION:2.0
METHOD:PUBLISH
BEGIN:VEVENT
DTSTART:20260525T100000Z
DTEND:20260525T123000Z
DTSTAMP:20260424T153555Z
UID:e7702504-4bc1-4869-aa40-c92b7af0596e
CREATED:20260424T153555Z
URL:https://www.achterhoekfoto.nl/agenda/item/546738
NAME:Duo H&A bij het 50+ Ontmoetingspunt AchterhoekFoto.nl
X-WR-CALNAME:Duo H&A bij het 50+ Ontmoetingspunt AchterhoekFoto.nl
X-ALT-DESC;FMTTYPE=text/html:<a href='https://www.achterhoekfoto.nl/agenda/item//546738'>https://achterhoekfoto.nl/agenda/item//546738</a> || <p>Een optreden van het Duo H&amp;A bij het 50+ Ontmoetingspunt. Hermien &amp; Ans komen deze 2e Pinksterdag bij ons optreden. Kom genieten van steirische harmonicamuziek van Hermien Kuenen en Ans Bekhuis. Daarnaast zullen er ook schlagers, Engelstalige country en andere muziekgenres te horen zijn. Kortom, het belooft een gezellige middag te worden vol muziek en samenzijn. De zaal is open vanaf 13.00 uur. Aanvang 14.00 uur. De toegang bedraagt € 2,50.</p>
DESCRIPTION:<a href='https://www.achterhoekfoto.nl/agenda/item//546738'>https://www.achterhoekfoto.nl/agenda/item//546738</a> || Een optreden van het Duo H&A bij het 50+ Ontmoetingspunt. Hermien & Ans komen deze 2e Pinksterdag bij ons optreden. Kom genieten van steirische harmonicamuziek van Hermien Kuenen en Ans Bekhuis. Daarnaast zullen er ook schlagers, Engelstalige country en andere muziekgenres te horen zijn. Kortom, het belooft een gezellige middag te worden vol muziek en samenzijn. De zaal is open vanaf 13.00 uur. Aanvang 14.00 uur. De toegang bedraagt € 2,50.
LAST-MODIFIED:20260424T153555Z
LOCATION:50+ Ontmoetingspunt 't Brewinc IJsselkade 13 7001AN Doetinchem
SEQUENCE:0
STATUS:CONFIRMED
SUMMARY:Duo H&A bij het 50+ Ontmoetingspunt
TRANSP:OPAQUE
END:VEVENT
END:VCALENDAR
