BEGIN:VCALENDAR
PRODID:-//PUBBLE//an agenda//NL
VERSION:2.0
METHOD:PUBLISH
BEGIN:VEVENT
DTSTART:20260517T100000Z
DTEND:20260517T123000Z
DTSTAMP:20260424T154502Z
UID:8de302e4-b72f-45eb-b3e0-7dcc51e9d846
CREATED:20260424T154502Z
URL:https://www.achterhoekfoto.nl/agenda/item/546737
NAME:De Tophitters bij het 50+ Ontmoetingspunt AchterhoekFoto.nl
X-WR-CALNAME:De Tophitters bij het 50+ Ontmoetingspunt AchterhoekFoto.nl
X-ALT-DESC;FMTTYPE=text/html:<a href='https://www.achterhoekfoto.nl/agenda/item//546737'>https://achterhoekfoto.nl/agenda/item//546737</a> || <p>Een optreden van De Tophitters bij het 50+ Ontmoetingspunt. &nbsp;De band bestaat uit inmiddels gepensioneerde, maar zeer getalenteerde muzikanten die nog altijd veel plezier beleven aan het muziek maken. Deze band uit Noord-Holland speelt als vanouds de sterren van de hemel hetgeen resulteert in een heerlijke dans- en muziekmiddag. De zaal is open vanaf 13.00 uur. &nbsp;Aanvang: 14.00 uur. De toegang bedraagt € 2,50.</p>
DESCRIPTION:<a href='https://www.achterhoekfoto.nl/agenda/item//546737'>https://www.achterhoekfoto.nl/agenda/item//546737</a> || Een optreden van De Tophitters bij het 50+ Ontmoetingspunt.  De band bestaat uit inmiddels gepensioneerde, maar zeer getalenteerde muzikanten die nog altijd veel plezier beleven aan het muziek maken. Deze band uit Noord-Holland speelt als vanouds de sterren van de hemel hetgeen resulteert in een heerlijke dans- en muziekmiddag. De zaal is open vanaf 13.00 uur.  Aanvang: 14.00 uur. De toegang bedraagt € 2,50.
LAST-MODIFIED:20260424T154502Z
LOCATION:50+ Ontmoetingspunt 't Brewinc IJsselkade 13 7001AN Doetinchem
SEQUENCE:0
STATUS:CONFIRMED
SUMMARY:De Tophitters bij het 50+ Ontmoetingspunt
TRANSP:OPAQUE
END:VEVENT
END:VCALENDAR
