BEGIN:VCALENDAR
PRODID:-//PUBBLE//an agenda//NL
VERSION:2.0
METHOD:PUBLISH
BEGIN:VEVENT
DTSTART:20260503T100000Z
DTEND:20260503T123000Z
DTSTAMP:20260424T153322Z
UID:0dfa65a1-1619-4ab0-b9dc-03331a88b542
CREATED:20260424T153322Z
URL:https://www.achterhoekfoto.nl/agenda/item/546736
NAME:Toneelgroep OP en AF speelt “Help! Een vrouw in de familie” AchterhoekFoto.nl
X-WR-CALNAME:Toneelgroep OP en AF speelt “Help! Een vrouw in de familie” AchterhoekFoto.nl
X-ALT-DESC;FMTTYPE=text/html:<a href='https://www.achterhoekfoto.nl/agenda/item//546736'>https://achterhoekfoto.nl/agenda/item//546736</a> || <p>Toneelgroep OP en AF speelt “Help! Een vrouw in de familie”, een stuk dat u echt niet mag missen. Het gaat over een zakenman met zijn familie. Hij is gescheiden en heeft twee/drie dochters en een zoon. Hij heeft een verrassing en nodigt zijn familie daarom uit voor een etentje, maar door een foutje van zijn geweldige secretaresse loop alles in het honderd. Met een spannend einde, dat niemand verwacht. De zaal is open vanaf 13.00 uur. Aanvang 14.00 uur. De togang bedraagt € 2,50</p>
DESCRIPTION:<a href='https://www.achterhoekfoto.nl/agenda/item//546736'>https://www.achterhoekfoto.nl/agenda/item//546736</a> || Toneelgroep OP en AF speelt “Help! Een vrouw in de familie”, een stuk dat u echt niet mag missen. Het gaat over een zakenman met zijn familie. Hij is gescheiden en heeft twee/drie dochters en een zoon. Hij heeft een verrassing en nodigt zijn familie daarom uit voor een etentje, maar door een foutje van zijn geweldige secretaresse loop alles in het honderd. Met een spannend einde, dat niemand verwacht. De zaal is open vanaf 13.00 uur. Aanvang 14.00 uur. De togang bedraagt € 2,50
LAST-MODIFIED:20260424T153322Z
LOCATION:50+ Ontmoetingspunt 't Brewinc IJsselkade 13 7001AN Doetinchem
SEQUENCE:0
STATUS:CONFIRMED
SUMMARY:Toneelgroep OP en AF speelt “Help! Een vrouw in de familie”
TRANSP:OPAQUE
END:VEVENT
END:VCALENDAR
