BEGIN:VCALENDAR
PRODID:-//PUBBLE//an agenda//NL
VERSION:2.0
METHOD:PUBLISH
BEGIN:VEVENT
DTSTART:20260510T100000Z
DTEND:20260510T123000Z
DTSTAMP:20260424T154431Z
UID:a1ab68a2-b896-44ce-a8fa-ba165f735652
CREATED:20260424T154431Z
URL:https://www.achterhoekfoto.nl/agenda/item/546733
NAME:Muziek en dansmiddag bij 50+ Ontmoetingspunt  met Leslie & Agnes AchterhoekFoto.nl
X-WR-CALNAME:Muziek en dansmiddag bij 50+ Ontmoetingspunt  met Leslie & Agnes AchterhoekFoto.nl
X-ALT-DESC;FMTTYPE=text/html:<a href='https://www.achterhoekfoto.nl/agenda/item//546733'>https://achterhoekfoto.nl/agenda/item//546733</a> || <p>Deze zondagmiddag is er een optreden van Leslie &amp; Agnes in het 50+ Ontmoetingspunt. Leslie en Agnes gaan weer voor een gezellige middag zorgen, heerlijk om naar te kijken en te luisteren en natuurlijk kan er ook volop gedanst worden.
De zaal is open vanaf 13.00 uur. Aanvang 14.00 uur.
De toegang bedraagt € 2,50.
locatie: IJsselkade 13, (zij-ingang ‘t Brewinc)</p>
DESCRIPTION:<a href='https://www.achterhoekfoto.nl/agenda/item//546733'>https://www.achterhoekfoto.nl/agenda/item//546733</a> || Deze zondagmiddag is er een optreden van Leslie & Agnes in het 50+ Ontmoetingspunt. Leslie en Agnes gaan weer voor een gezellige middag zorgen, heerlijk om naar te kijken en te luisteren en natuurlijk kan er ook volop gedanst worden.
De zaal is open vanaf 13.00 uur. Aanvang 14.00 uur.
De toegang bedraagt € 2,50.
locatie: IJsselkade 13, (zij-ingang ‘t Brewinc)
LAST-MODIFIED:20260424T154431Z
LOCATION:50+ Ontmoetingspunt 't Brewinc IJsselkade 13 7001AN Doetinchem
SEQUENCE:0
STATUS:CONFIRMED
SUMMARY:Muziek en dansmiddag bij 50+ Ontmoetingspunt  met Leslie & Agnes
TRANSP:OPAQUE
END:VEVENT
END:VCALENDAR
