BEGIN:VCALENDAR
PRODID:-//PUBBLE//an agenda//NL
VERSION:2.0
METHOD:PUBLISH
BEGIN:VEVENT
DTSTART:20260528T080000Z
DTEND:20260528T090000Z
DTSTAMP:20260424T141319Z
UID:6b537623-196d-4b2a-b47a-c89720c8f9e7
CREATED:20260424T141319Z
URL:https://www.achterhoekfoto.nl/agenda/item/546732
NAME:Lunch(je) mee! in het 50+ Ontmoetingspunt AchterhoekFoto.nl
X-WR-CALNAME:Lunch(je) mee! in het 50+ Ontmoetingspunt AchterhoekFoto.nl
X-ALT-DESC;FMTTYPE=text/html:<a href='https://www.achterhoekfoto.nl/agenda/item//546732'>https://achterhoekfoto.nl/agenda/item//546732</a> || <p>Lunch(je) mee! Altijd alleen lunchen hoeft niet. Neem je boterhammetje mee en kom gezellig met anderen tussen de middag eten in het 50+ Ontmoetingspunt. Elke laatste donderdag van de maand kunt u bij uw lunch een gezonde kop soep nuttigen. Wel even van tevoren aanmelden zodat wij voor iedereen soep hebben. Kosten € 1,50 per kop soep. Wij gaan om 12.00 uur aan tafel.&nbsp;</p>
DESCRIPTION:<a href='https://www.achterhoekfoto.nl/agenda/item//546732'>https://www.achterhoekfoto.nl/agenda/item//546732</a> || Lunch(je) mee! Altijd alleen lunchen hoeft niet. Neem je boterhammetje mee en kom gezellig met anderen tussen de middag eten in het 50+ Ontmoetingspunt. Elke laatste donderdag van de maand kunt u bij uw lunch een gezonde kop soep nuttigen. Wel even van tevoren aanmelden zodat wij voor iedereen soep hebben. Kosten € 1,50 per kop soep. Wij gaan om 12.00 uur aan tafel. 
LAST-MODIFIED:20260424T141319Z
LOCATION:50+ Ontmoetingspunt 't Brewinc IJsselkade 13 7001AN Doetinchem
SEQUENCE:0
STATUS:CONFIRMED
SUMMARY:Lunch(je) mee! in het 50+ Ontmoetingspunt
TRANSP:OPAQUE
END:VEVENT
END:VCALENDAR
