BEGIN:VCALENDAR
PRODID:-//PUBBLE//an agenda//NL
VERSION:2.0
METHOD:PUBLISH
BEGIN:VEVENT
DTSTART:20260517T053000Z
DTEND:20260517T064500Z
DTSTAMP:20260424T205908Z
UID:3607b49a-f559-498b-9c60-a7e82ec82642
CREATED:20260424T205908Z
URL:https://www.achterhoekfoto.nl/agenda/item/546725
NAME:leesdienst AchterhoekFoto.nl
X-WR-CALNAME:leesdienst AchterhoekFoto.nl
X-ALT-DESC;FMTTYPE=text/html:<a href='https://www.achterhoekfoto.nl/agenda/item//546725'>https://achterhoekfoto.nl/agenda/item//546725</a> || <p>uitgezonden op www.cgkaalten.nl</p>
DESCRIPTION:<a href='https://www.achterhoekfoto.nl/agenda/item//546725'>https://www.achterhoekfoto.nl/agenda/item//546725</a> || uitgezonden op www.cgkaalten.nl
LAST-MODIFIED:20260424T205908Z
LOCATION:Christelijke Gereformeerde Kerk Aalten Berkenhovestraat 9 7122zx Aalten
SEQUENCE:0
STATUS:CONFIRMED
SUMMARY:leesdienst
TRANSP:OPAQUE
END:VEVENT
END:VCALENDAR
