BEGIN:VCALENDAR
PRODID:-//PUBBLE//an agenda//NL
VERSION:2.0
METHOD:PUBLISH
BEGIN:VEVENT
DTSTART:20260524T123000Z
DTEND:20260524T134500Z
DTSTAMP:20260424T221944Z
UID:5029ebb3-baf2-42cf-8868-dc168ce92f68
CREATED:20260424T221944Z
URL:https://www.achterhoekfoto.nl/agenda/item/546724
NAME:Ds. C. van Dusseldorp, Neede AchterhoekFoto.nl
X-WR-CALNAME:Ds. C. van Dusseldorp, Neede AchterhoekFoto.nl
X-ALT-DESC;FMTTYPE=text/html:<a href='https://www.achterhoekfoto.nl/agenda/item//546724'>https://achterhoekfoto.nl/agenda/item//546724</a> || <p>1ste Pinksterdag; uitgezonden op www.cgkaalten.nl</p>
DESCRIPTION:<a href='https://www.achterhoekfoto.nl/agenda/item//546724'>https://www.achterhoekfoto.nl/agenda/item//546724</a> || 1ste Pinksterdag; uitgezonden op www.cgkaalten.nl
LAST-MODIFIED:20260424T221944Z
LOCATION:Christelijke Gereformeerde Kerk Aalten Berkenhovestraat 9 7122zx Aalten
SEQUENCE:0
STATUS:CONFIRMED
SUMMARY:Ds. C. van Dusseldorp, Neede
TRANSP:OPAQUE
END:VEVENT
END:VCALENDAR
