BEGIN:VCALENDAR
PRODID:-//PUBBLE//an agenda//NL
VERSION:2.0
METHOD:PUBLISH
BEGIN:VEVENT
DTSTART:20260524T053000Z
DTEND:20260524T064500Z
DTSTAMP:20260424T205853Z
UID:90b977f8-8e26-4ad6-b5df-259406b1996f
CREATED:20260424T205853Z
URL:https://www.achterhoekfoto.nl/agenda/item/546723
NAME:Ds. J. van het Goor, Rijssen AchterhoekFoto.nl
X-WR-CALNAME:Ds. J. van het Goor, Rijssen AchterhoekFoto.nl
X-ALT-DESC;FMTTYPE=text/html:<a href='https://www.achterhoekfoto.nl/agenda/item//546723'>https://achterhoekfoto.nl/agenda/item//546723</a> || <p>1ste Pinksterdag; uitgezonden op www.cgkaalten.nl</p>
DESCRIPTION:<a href='https://www.achterhoekfoto.nl/agenda/item//546723'>https://www.achterhoekfoto.nl/agenda/item//546723</a> || 1ste Pinksterdag; uitgezonden op www.cgkaalten.nl
LAST-MODIFIED:20260424T205853Z
LOCATION:Christelijke Gereformeerde Kerk Aalten Berkenhovestraat 9 7122zx Aalten
SEQUENCE:0
STATUS:CONFIRMED
SUMMARY:Ds. J. van het Goor, Rijssen
TRANSP:OPAQUE
END:VEVENT
END:VCALENDAR
