BEGIN:VCALENDAR
PRODID:-//PUBBLE//an agenda//NL
VERSION:2.0
METHOD:PUBLISH
BEGIN:VEVENT
DTSTART:20260514T053000Z
DTEND:20260514T064500Z
DTSTAMP:20260424T205822Z
UID:6d23a585-b92c-43a6-8731-a8be011e1608
CREATED:20260424T205822Z
URL:https://www.achterhoekfoto.nl/agenda/item/546722
NAME:Prof. G.C. den Hertog, Apeldoorn AchterhoekFoto.nl
X-WR-CALNAME:Prof. G.C. den Hertog, Apeldoorn AchterhoekFoto.nl
X-ALT-DESC;FMTTYPE=text/html:<a href='https://www.achterhoekfoto.nl/agenda/item//546722'>https://achterhoekfoto.nl/agenda/item//546722</a> || <p>Hemelvaart; uitgezonden op www.cgkaalten.nl</p>
DESCRIPTION:<a href='https://www.achterhoekfoto.nl/agenda/item//546722'>https://www.achterhoekfoto.nl/agenda/item//546722</a> || Hemelvaart; uitgezonden op www.cgkaalten.nl
LAST-MODIFIED:20260424T205822Z
LOCATION:Christelijke Gereformeerde Kerk Aalten Berkenhovestraat 9 7122zx Aalten
SEQUENCE:0
STATUS:CONFIRMED
SUMMARY:Prof. G.C. den Hertog, Apeldoorn
TRANSP:OPAQUE
END:VEVENT
END:VCALENDAR
