BEGIN:VCALENDAR
PRODID:-//PUBBLE//an agenda//NL
VERSION:2.0
METHOD:PUBLISH
BEGIN:VEVENT
DTSTART:20260517T123000Z
DTEND:20260517T134500Z
DTSTAMP:20260424T205930Z
UID:7fec6443-2526-4b14-8ab7-f5c864f08fdd
CREATED:20260424T205930Z
URL:https://www.achterhoekfoto.nl/agenda/item/546721
NAME:Dr. J.J.C. Dee, Amersfoort AchterhoekFoto.nl
X-WR-CALNAME:Dr. J.J.C. Dee, Amersfoort AchterhoekFoto.nl
X-ALT-DESC;FMTTYPE=text/html:<a href='https://www.achterhoekfoto.nl/agenda/item//546721'>https://achterhoekfoto.nl/agenda/item//546721</a> || <p>uitgezonden op www.cgkaalten.nl</p>
DESCRIPTION:<a href='https://www.achterhoekfoto.nl/agenda/item//546721'>https://www.achterhoekfoto.nl/agenda/item//546721</a> || uitgezonden op www.cgkaalten.nl
LAST-MODIFIED:20260424T205930Z
LOCATION:Christelijke Gereformeerde Kerk Aalten Berkenhovestraat 9 7122zx Aalten
SEQUENCE:0
STATUS:CONFIRMED
SUMMARY:Dr. J.J.C. Dee, Amersfoort
TRANSP:OPAQUE
END:VEVENT
END:VCALENDAR
