BEGIN:VCALENDAR
PRODID:-//PUBBLE//an agenda//NL
VERSION:2.0
METHOD:PUBLISH
BEGIN:VEVENT
DTSTART:20260510T053000Z
DTEND:20260510T064500Z
DTSTAMP:20260424T205853Z
UID:7a39654c-49bf-42c7-9e91-bf5399a7310a
CREATED:20260424T205853Z
URL:https://www.achterhoekfoto.nl/agenda/item/546720
NAME:Ds. A. Wagenaar, Wierden AchterhoekFoto.nl
X-WR-CALNAME:Ds. A. Wagenaar, Wierden AchterhoekFoto.nl
X-ALT-DESC;FMTTYPE=text/html:<a href='https://www.achterhoekfoto.nl/agenda/item//546720'>https://achterhoekfoto.nl/agenda/item//546720</a> || <p>uitgezonden op www.cgkaalten.nl</p>
DESCRIPTION:<a href='https://www.achterhoekfoto.nl/agenda/item//546720'>https://www.achterhoekfoto.nl/agenda/item//546720</a> || uitgezonden op www.cgkaalten.nl
LAST-MODIFIED:20260424T205853Z
LOCATION:Christelijke Gereformeerde Kerk Aalten Berkenhovestraat 9 7122zx Aalten
SEQUENCE:0
STATUS:CONFIRMED
SUMMARY:Ds. A. Wagenaar, Wierden
TRANSP:OPAQUE
END:VEVENT
END:VCALENDAR
