BEGIN:VCALENDAR
PRODID:-//PUBBLE//an agenda//NL
VERSION:2.0
METHOD:PUBLISH
BEGIN:VEVENT
DTSTART:20260510T123000Z
DTEND:20260510T134500Z
DTSTAMP:20260424T205908Z
UID:7c8aa871-80fb-41f8-94d3-a93bf0e43324
CREATED:20260424T205908Z
URL:https://www.achterhoekfoto.nl/agenda/item/546719
NAME:Ds. G. Schreurders, Wierden AchterhoekFoto.nl
X-WR-CALNAME:Ds. G. Schreurders, Wierden AchterhoekFoto.nl
X-ALT-DESC;FMTTYPE=text/html:<a href='https://www.achterhoekfoto.nl/agenda/item//546719'>https://achterhoekfoto.nl/agenda/item//546719</a> || <p>uitgezonden op www.cgkaalten.nl</p>
DESCRIPTION:<a href='https://www.achterhoekfoto.nl/agenda/item//546719'>https://www.achterhoekfoto.nl/agenda/item//546719</a> || uitgezonden op www.cgkaalten.nl
LAST-MODIFIED:20260424T205908Z
LOCATION:Christelijke Gereformeerde Kerk Aalten Berkenhovestraat 9 7122zx Aalten
SEQUENCE:0
STATUS:CONFIRMED
SUMMARY:Ds. G. Schreurders, Wierden
TRANSP:OPAQUE
END:VEVENT
END:VCALENDAR
