BEGIN:VCALENDAR
PRODID:-//PUBBLE//an agenda//NL
VERSION:2.0
METHOD:PUBLISH
BEGIN:VEVENT
DTSTART:20260525T060000Z
DTEND:20260525T071500Z
DTSTAMP:20260424T194219Z
UID:bbb08223-e788-4f94-84f7-9d335725862c
CREATED:20260424T194219Z
URL:https://www.achterhoekfoto.nl/agenda/item/546718
NAME:zangdienst AchterhoekFoto.nl
X-WR-CALNAME:zangdienst AchterhoekFoto.nl
X-ALT-DESC;FMTTYPE=text/html:<a href='https://www.achterhoekfoto.nl/agenda/item//546718'>https://achterhoekfoto.nl/agenda/item//546718</a> || <p>2e Pinksterdag; uitgezonden op www.cgkaalten.nl</p>
DESCRIPTION:<a href='https://www.achterhoekfoto.nl/agenda/item//546718'>https://www.achterhoekfoto.nl/agenda/item//546718</a> || 2e Pinksterdag; uitgezonden op www.cgkaalten.nl
LAST-MODIFIED:20260424T194219Z
LOCATION:Christelijke Gereformeerde Kerk Aalten Berkenhovestraat 9 7122zx Aalten
SEQUENCE:0
STATUS:CONFIRMED
SUMMARY:zangdienst
TRANSP:OPAQUE
END:VEVENT
END:VCALENDAR
