BEGIN:VCALENDAR
PRODID:-//PUBBLE//an agenda//NL
VERSION:2.0
METHOD:PUBLISH
BEGIN:VEVENT
DTSTART:20260504T070000Z
DTEND:20260504T080000Z
DTSTAMP:20260425T141432Z
UID:d19bbd0d-871f-4527-b7a9-dc4383afe93c
CREATED:20260425T141432Z
URL:https://www.achterhoekfoto.nl/agenda/item/546713
NAME:Herdenkingswandeling 4 mei AchterhoekFoto.nl
X-WR-CALNAME:Herdenkingswandeling 4 mei AchterhoekFoto.nl
X-ALT-DESC;FMTTYPE=text/html:<a href='https://www.achterhoekfoto.nl/agenda/item//546713'>https://achterhoekfoto.nl/agenda/item//546713</a> || <p>Stichting Stolpersteine Lochem organiseert op maandag 4 mei a.s. om 11:00 uur en om 13:00 uur een wandeling door de binnenstad van Lochem met als thema: Opdat wij hen niet zullen vergeten.</p><p>Vanaf 11:00 uur en in een tweede wandeling om 13:00 uur nemen vrijwilligers belangstellenden mee langs de Stolpersteine die in de binnenstad te vinden zijn en wordt meer in detail verteld wie de slachtoffers waren die onder het naziregime werden vermoord in de concentratiekampen in Europa. Deelnemers kunnen zich melden aan de voorzijde van de plaatselijke VVV op de Kleine Markt. Deelname is gratis.</p>
DESCRIPTION:<a href='https://www.achterhoekfoto.nl/agenda/item//546713'>https://www.achterhoekfoto.nl/agenda/item//546713</a> || Stichting Stolpersteine Lochem organiseert op maandag 4 mei a.s. om 11:00 uur en om 13:00 uur een wandeling door de binnenstad van Lochem met als thema: Opdat wij hen niet zullen vergeten.Vanaf 11:00 uur en in een tweede wandeling om 13:00 uur nemen vrijwilligers belangstellenden mee langs de Stolpersteine die in de binnenstad te vinden zijn en wordt meer in detail verteld wie de slachtoffers waren die onder het naziregime werden vermoord in de concentratiekampen in Europa. Deelnemers kunnen zich melden aan de voorzijde van de plaatselijke VVV op de Kleine Markt. Deelname is gratis.
LAST-MODIFIED:20260425T141432Z
LOCATION:VVV Markt 2 7241 AA Lochem
SEQUENCE:0
STATUS:CONFIRMED
SUMMARY:Herdenkingswandeling 4 mei
TRANSP:OPAQUE
END:VEVENT
END:VCALENDAR
