BEGIN:VCALENDAR
PRODID:-//PUBBLE//an agenda//NL
VERSION:2.0
METHOD:PUBLISH
BEGIN:VEVENT
DTSTART:20260522T081100Z
DTEND:20260619T081100Z
DTSTAMP:20260424T073603Z
UID:cab61f63-c847-4718-b0ba-cacac2d25a4a
CREATED:20260424T073603Z
URL:https://www.achterhoekfoto.nl/agenda/item/546594
NAME:Leerlingen van de ISK en het Assink Lyceum exposeren in Natuurpark Kronenkamp AchterhoekFoto.nl
X-WR-CALNAME:Leerlingen van de ISK en het Assink Lyceum exposeren in Natuurpark Kronenkamp AchterhoekFoto.nl
X-ALT-DESC;FMTTYPE=text/html:<a href='https://www.achterhoekfoto.nl/agenda/item//546594'>https://achterhoekfoto.nl/agenda/item//546594</a> || <p>Van vrijdag 22 mei tot en met vrijdag 19 juni exposeren 30 leerlingen van de Internationale Schakelklas uit Borculo (ISK) en 30 leerlingen van het Assink lyceum uit Haaksbergen tweedimensionale werken op doek in gemengde media/mixed media in het ontmoetingscentrum Het Filter in Natuurpark Kronenkamp.</p><p>In april zijn de leerlingen van het Assink lyceum uit Haaksbergen met de bus naar Borculo gegaan waar ze de leerlingen van de ISK voor het eerst hebben ontmoet.</p><p>Onder leiding van beeldend kunstenaar en workshopdocent Aschwin Huiskes zijn 15 groepen van elk 4 leerlingen (2 leerlingen van de ISK en 2 van het Assink lyceum) aan de slag gegaan met het maken van kunstwerken rond het thema ‘Symbolen en Tekens’.</p><p>Tijdens de workshop hebben de leerlingen onderzocht hoe symbolen en tekens worden gebruikt in verschillende culturen en contexten. Zij hebben hun eigen waardevolle, bijzondere, persoonlijke tekens en symbolen verwerkt op het doek. Dit alles heeft geresulteerd in 15 prachtige tweedimensionale werken op doek in gemengde media/mixed media.</p><p>Naast de creatieve expressie heeft het project ook ruimte geboden voor verbinding, begrip en dialoog.</p><p>Met dit initiatief onderstrepen de deelnemende scholen het belang van kunsteducatie als middel voor inclusie en verbinding.</p><p>Dit kunstproject is georganiseerd door en staat onder leiding van de kunstdocenten Renata de Frankrijker en Angelique Gerritsen van de ISK en Menno Dimitri Ouderkerk van het Assink lyceum.</p><p>Deze bijzondere expositie is te bewonderen in het ontmoetingscentrum Het Filter welke elke woensdag- en vrijdagmiddag van 13.30 tot 16.30 uur is geopend voor publiek. Het bezoekersadres is Kronenkamp 14 in Neede waar voldoende parkeergelegenheid is.</p><p>Voor nadere informatie kunt u mailen met info@natuurparkkronenkamp.nl</p>
DESCRIPTION:<a href='https://www.achterhoekfoto.nl/agenda/item//546594'>https://www.achterhoekfoto.nl/agenda/item//546594</a> || Van vrijdag 22 mei tot en met vrijdag 19 juni exposeren 30 leerlingen van de Internationale Schakelklas uit Borculo (ISK) en 30 leerlingen van het Assink lyceum uit Haaksbergen tweedimensionale werken op doek in gemengde media/mixed media in het ontmoetingscentrum Het Filter in Natuurpark Kronenkamp.In april zijn de leerlingen van het Assink lyceum uit Haaksbergen met de bus naar Borculo gegaan waar ze de leerlingen van de ISK voor het eerst hebben ontmoet.Onder leiding van beeldend kunstenaar en workshopdocent Aschwin Huiskes zijn 15 groepen van elk 4 leerlingen (2 leerlingen van de ISK en 2 van het Assink lyceum) aan de slag gegaan met het maken van kunstwerken rond het thema ‘Symbolen en Tekens’.Tijdens de workshop hebben de leerlingen onderzocht hoe symbolen en tekens worden gebruikt in verschillende culturen en contexten. Zij hebben hun eigen waardevolle, bijzondere, persoonlijke tekens en symbolen verwerkt op het doek. Dit alles heeft geresulteerd in 15 prachtige tweedimensionale werken op doek in gemengde media/mixed media.Naast de creatieve expressie heeft het project ook ruimte geboden voor verbinding, begrip en dialoog.Met dit initiatief onderstrepen de deelnemende scholen het belang van kunsteducatie als middel voor inclusie en verbinding.Dit kunstproject is georganiseerd door en staat onder leiding van de kunstdocenten Renata de Frankrijker en Angelique Gerritsen van de ISK en Menno Dimitri Ouderkerk van het Assink lyceum.Deze bijzondere expositie is te bewonderen in het ontmoetingscentrum Het Filter welke elke woensdag- en vrijdagmiddag van 13.30 tot 16.30 uur is geopend voor publiek. Het bezoekersadres is Kronenkamp 14 in Neede waar voldoende parkeergelegenheid is.Voor nadere informatie kunt u mailen met info@natuurparkkronenkamp.nl
LAST-MODIFIED:20260424T073603Z
LOCATION:Natuurpark Kronenkamp Kronenkamp 14 7161HE Neede
SEQUENCE:0
STATUS:CONFIRMED
SUMMARY:Leerlingen van de ISK en het Assink Lyceum exposeren in Natuurpark Kronenkamp
TRANSP:OPAQUE
END:VEVENT
END:VCALENDAR
