BEGIN:VCALENDAR
PRODID:-//PUBBLE//an agenda//NL
VERSION:2.0
METHOD:PUBLISH
BEGIN:VEVENT
DTSTART:20260607T053000Z
DTEND:20260607T140000Z
DTSTAMP:20260424T100801Z
UID:e8cf4402-09f9-4aa8-8474-de146926a6b8
CREATED:20260424T100801Z
URL:https://www.achterhoekfoto.nl/agenda/item/546541
NAME:Kerkdienst Kruisbergkerk, Bezelhorstweg 54, Doetinchem AchterhoekFoto.nl
X-WR-CALNAME:Kerkdienst Kruisbergkerk, Bezelhorstweg 54, Doetinchem AchterhoekFoto.nl
X-ALT-DESC;FMTTYPE=text/html:<a href='https://www.achterhoekfoto.nl/agenda/item//546541'>https://achterhoekfoto.nl/agenda/item//546541</a> || <p>9:30 en 16:30 uur, &nbsp;ds. P.G. Heijkamp. Crèche aanwezig.</p><p>Om 15:00 is er een Bijbeluur met koffie en ontmoeting. Van harte welkom.</p>
DESCRIPTION:<a href='https://www.achterhoekfoto.nl/agenda/item//546541'>https://www.achterhoekfoto.nl/agenda/item//546541</a> || 9:30 en 16:30 uur,  ds. P.G. Heijkamp. Crèche aanwezig.Om 15:00 is er een Bijbeluur met koffie en ontmoeting. Van harte welkom.
LAST-MODIFIED:20260424T100801Z
LOCATION:Kruisbergkerk Bezelhorstweg 54 7009KL Doetinchem
SEQUENCE:0
STATUS:CONFIRMED
SUMMARY:Kerkdienst Kruisbergkerk, Bezelhorstweg 54, Doetinchem
TRANSP:OPAQUE
END:VEVENT
END:VCALENDAR
