BEGIN:VCALENDAR
PRODID:-//PUBBLE//an agenda//NL
VERSION:2.0
METHOD:PUBLISH
BEGIN:VEVENT
DTSTART:20260531T053000Z
DTEND:20260531T140000Z
DTSTAMP:20260424T084937Z
UID:cc445b9c-4d3c-4871-9e7e-c869c758efe2
CREATED:20260424T084937Z
URL:https://www.achterhoekfoto.nl/agenda/item/546540
NAME:Kerkdienst Kruisbergkerk, Bezelhorstweg 54, Doetinchem AchterhoekFoto.nl
X-WR-CALNAME:Kerkdienst Kruisbergkerk, Bezelhorstweg 54, Doetinchem AchterhoekFoto.nl
X-ALT-DESC;FMTTYPE=text/html:<a href='https://www.achterhoekfoto.nl/agenda/item//546540'>https://achterhoekfoto.nl/agenda/item//546540</a> || <p>9:30 &nbsp;en 16:30 uur, leesdienst . Crèche aanwezig.</p><p>Om 15:00 is er een Bijbeluur met koffie en ontmoeting. Van harte welkom.</p>
DESCRIPTION:<a href='https://www.achterhoekfoto.nl/agenda/item//546540'>https://www.achterhoekfoto.nl/agenda/item//546540</a> || 9:30  en 16:30 uur, leesdienst . Crèche aanwezig.Om 15:00 is er een Bijbeluur met koffie en ontmoeting. Van harte welkom.
LAST-MODIFIED:20260424T084937Z
LOCATION:Kruisbergkerk Bezelhorstweg 54 7009KL Doetinchem
SEQUENCE:0
STATUS:CONFIRMED
SUMMARY:Kerkdienst Kruisbergkerk, Bezelhorstweg 54, Doetinchem
TRANSP:OPAQUE
END:VEVENT
END:VCALENDAR
