BEGIN:VCALENDAR
PRODID:-//PUBBLE//an agenda//NL
VERSION:2.0
METHOD:PUBLISH
BEGIN:VEVENT
DTSTART:20260525T180300Z
DTEND:20260524T140000Z
DTSTAMP:20260424T100907Z
UID:cbed46e6-e412-41d3-9d11-dbd7c88f7e85
CREATED:20260424T100907Z
URL:https://www.achterhoekfoto.nl/agenda/item/546539
NAME:Kerkdienst Kruisbergkerk, Bezelhorstweg 54, Doetinchem AchterhoekFoto.nl
X-WR-CALNAME:Kerkdienst Kruisbergkerk, Bezelhorstweg 54, Doetinchem AchterhoekFoto.nl
X-ALT-DESC;FMTTYPE=text/html:<a href='https://www.achterhoekfoto.nl/agenda/item//546539'>https://achterhoekfoto.nl/agenda/item//546539</a> || <p>Tweede Pinksterdag 9:30 uur, &nbsp;ds. P.G. Heijkamp. Crèche aanwezig.</p><p>Van harte welkom.</p>
DESCRIPTION:<a href='https://www.achterhoekfoto.nl/agenda/item//546539'>https://www.achterhoekfoto.nl/agenda/item//546539</a> || Tweede Pinksterdag 9:30 uur,  ds. P.G. Heijkamp. Crèche aanwezig.Van harte welkom.
LAST-MODIFIED:20260424T100907Z
LOCATION:Kruisbergkerk Bezelhorstweg 54 7009KL Doetinchem
SEQUENCE:0
STATUS:CONFIRMED
SUMMARY:Kerkdienst Kruisbergkerk, Bezelhorstweg 54, Doetinchem
TRANSP:OPAQUE
END:VEVENT
END:VCALENDAR
