BEGIN:VCALENDAR
PRODID:-//PUBBLE//an agenda//NL
VERSION:2.0
METHOD:PUBLISH
BEGIN:VEVENT
DTSTART:20260524T053000Z
DTEND:20260524T140000Z
DTSTAMP:20260424T100917Z
UID:98fbb4fc-4e7e-4d2a-a425-b1a0b3b0a7aa
CREATED:20260424T100917Z
URL:https://www.achterhoekfoto.nl/agenda/item/546538
NAME:Kerkdienst Kruisbergkerk, Bezelhorstweg 54, Doetinchem AchterhoekFoto.nl
X-WR-CALNAME:Kerkdienst Kruisbergkerk, Bezelhorstweg 54, Doetinchem AchterhoekFoto.nl
X-ALT-DESC;FMTTYPE=text/html:<a href='https://www.achterhoekfoto.nl/agenda/item//546538'>https://achterhoekfoto.nl/agenda/item//546538</a> || <p>Eerste Pinksterdag 9:30 en 16:30 uur, &nbsp;ds. P.G. Heijkamp. Crèche aanwezig.</p><p>Om 14:45 is er een Bijbeluur met koffie en ontmoeting. Van harte welkom.</p>
DESCRIPTION:<a href='https://www.achterhoekfoto.nl/agenda/item//546538'>https://www.achterhoekfoto.nl/agenda/item//546538</a> || Eerste Pinksterdag 9:30 en 16:30 uur,  ds. P.G. Heijkamp. Crèche aanwezig.Om 14:45 is er een Bijbeluur met koffie en ontmoeting. Van harte welkom.
LAST-MODIFIED:20260424T100917Z
LOCATION:Kruisbergkerk Bezelhorstweg 54 7009KL Doetinchem
SEQUENCE:0
STATUS:CONFIRMED
SUMMARY:Kerkdienst Kruisbergkerk, Bezelhorstweg 54, Doetinchem
TRANSP:OPAQUE
END:VEVENT
END:VCALENDAR
