BEGIN:VCALENDAR
PRODID:-//PUBBLE//an agenda//NL
VERSION:2.0
METHOD:PUBLISH
BEGIN:VEVENT
DTSTART:20260517T053000Z
DTEND:20260517T140000Z
DTSTAMP:20260424T100907Z
UID:bf8c2ced-0dd5-4112-8809-fa5b6ecdb405
CREATED:20260424T100907Z
URL:https://www.achterhoekfoto.nl/agenda/item/546537
NAME:Kerkdienst Kruisbergkerk, Bezelhorstweg 54, Doetinchem AchterhoekFoto.nl
X-WR-CALNAME:Kerkdienst Kruisbergkerk, Bezelhorstweg 54, Doetinchem AchterhoekFoto.nl
X-ALT-DESC;FMTTYPE=text/html:<a href='https://www.achterhoekfoto.nl/agenda/item//546537'>https://achterhoekfoto.nl/agenda/item//546537</a> || <p>9:30 en 16:30 uur, &nbsp;ds. P.G. Heijkamp. Crèche aanwezig.</p><p>Om 14:45 is er een Bijbeluur met koffie en ontmoeting. Van harte welkom.</p>
DESCRIPTION:<a href='https://www.achterhoekfoto.nl/agenda/item//546537'>https://www.achterhoekfoto.nl/agenda/item//546537</a> || 9:30 en 16:30 uur,  ds. P.G. Heijkamp. Crèche aanwezig.Om 14:45 is er een Bijbeluur met koffie en ontmoeting. Van harte welkom.
LAST-MODIFIED:20260424T100907Z
LOCATION:Kruisbergkerk Bezelhorstweg 54 7009KL Doetinchem
SEQUENCE:0
STATUS:CONFIRMED
SUMMARY:Kerkdienst Kruisbergkerk, Bezelhorstweg 54, Doetinchem
TRANSP:OPAQUE
END:VEVENT
END:VCALENDAR
