BEGIN:VCALENDAR
PRODID:-//PUBBLE//an agenda//NL
VERSION:2.0
METHOD:PUBLISH
BEGIN:VEVENT
DTSTART:20260514T053000Z
DTEND:20260514T070000Z
DTSTAMP:20260424T100811Z
UID:1bf8bafc-9017-4e1a-8851-fd58898f0971
CREATED:20260424T100811Z
URL:https://www.achterhoekfoto.nl/agenda/item/546536
NAME:Kerkdienst Kruisbergkerk, Bezelhorstweg 54, Doetinchem AchterhoekFoto.nl
X-WR-CALNAME:Kerkdienst Kruisbergkerk, Bezelhorstweg 54, Doetinchem AchterhoekFoto.nl
X-ALT-DESC;FMTTYPE=text/html:<a href='https://www.achterhoekfoto.nl/agenda/item//546536'>https://achterhoekfoto.nl/agenda/item//546536</a> || <p>Hemelvaartsdag 9:30 uur, &nbsp;ds. P.G. Heijkamp. Crèche aanwezig.</p><p>Van harte welkom.</p>
DESCRIPTION:<a href='https://www.achterhoekfoto.nl/agenda/item//546536'>https://www.achterhoekfoto.nl/agenda/item//546536</a> || Hemelvaartsdag 9:30 uur,  ds. P.G. Heijkamp. Crèche aanwezig.Van harte welkom.
LAST-MODIFIED:20260424T100811Z
LOCATION:Kruisbergkerk Bezelhorstweg 54 7009KL Doetinchem
SEQUENCE:0
STATUS:CONFIRMED
SUMMARY:Kerkdienst Kruisbergkerk, Bezelhorstweg 54, Doetinchem
TRANSP:OPAQUE
END:VEVENT
END:VCALENDAR
