BEGIN:VCALENDAR
PRODID:-//PUBBLE//an agenda//NL
VERSION:2.0
METHOD:PUBLISH
BEGIN:VEVENT
DTSTART:20260503T053000Z
DTEND:20260503T140000Z
DTSTAMP:20260424T100811Z
UID:2aed0a02-7a1d-4e26-b274-50fa1adbe759
CREATED:20260424T100811Z
URL:https://www.achterhoekfoto.nl/agenda/item/546534
NAME:Kerkdienst Kruisbergkerk, Bezelhorstweg 54, Doetinchem AchterhoekFoto.nl
X-WR-CALNAME:Kerkdienst Kruisbergkerk, Bezelhorstweg 54, Doetinchem AchterhoekFoto.nl
X-ALT-DESC;FMTTYPE=text/html:<a href='https://www.achterhoekfoto.nl/agenda/item//546534'>https://achterhoekfoto.nl/agenda/item//546534</a> || <p>9:30 en 16:30 uur, &nbsp;ds. P.G. Heijkamp. Crèche aanwezig.</p><p>Om 14:45 is er een Bijbeluur met koffie en ontmoeting. Van harte welkom.</p>
DESCRIPTION:<a href='https://www.achterhoekfoto.nl/agenda/item//546534'>https://www.achterhoekfoto.nl/agenda/item//546534</a> || 9:30 en 16:30 uur,  ds. P.G. Heijkamp. Crèche aanwezig.Om 14:45 is er een Bijbeluur met koffie en ontmoeting. Van harte welkom.
LAST-MODIFIED:20260424T100811Z
LOCATION:Kruisbergkerk Bezelhorstweg 54 7009KL Doetinchem
SEQUENCE:0
STATUS:CONFIRMED
SUMMARY:Kerkdienst Kruisbergkerk, Bezelhorstweg 54, Doetinchem
TRANSP:OPAQUE
END:VEVENT
END:VCALENDAR
