BEGIN:VCALENDAR
PRODID:-//PUBBLE//an agenda//NL
VERSION:2.0
METHOD:PUBLISH
BEGIN:VEVENT
DTSTART:20260517T070000Z
DTEND:20260516T210000Z
DTSTAMP:20260424T072638Z
UID:781e1c8e-8a6f-47cd-b8cd-37fb17a6e889
CREATED:20260424T072638Z
URL:https://www.achterhoekfoto.nl/agenda/item/546513
NAME:Een knuffel graag AchterhoekFoto.nl
X-WR-CALNAME:Een knuffel graag AchterhoekFoto.nl
X-ALT-DESC;FMTTYPE=text/html:<a href='https://www.achterhoekfoto.nl/agenda/item//546513'>https://achterhoekfoto.nl/agenda/item//546513</a> || <p>Er is weer KinderKerk voor kinderen van 2 tot 8 jaar op zondagmorgen 17 mei om 11 uur in de Antonius in Rekken. Zoals jullie misschien al weten hebben we dit keer een hele bijzondere KinderKerk! Dan is er de kindercabaretvoorstelling: ‘Een knuffel graag’ door Ruurd Walinga.</p><p>De kindershow gaat onder andere over vrienden maken en aandacht hebben voor elkaar. Aan de hand van Bijbelse verhalen waarin dieren een belangrijke rolspelen.</p><p>De theatervoorstelling bevat, naast het verhaal over Rudmer, enkele liedjes, een hilarische natuurkwis en een wedstrijdje wie zijn knuffel het beste kan laten spreken, zingen, piepen, brullen!</p><p>Tot 17 mei! Kom je ook?</p>
DESCRIPTION:<a href='https://www.achterhoekfoto.nl/agenda/item//546513'>https://www.achterhoekfoto.nl/agenda/item//546513</a> || Er is weer KinderKerk voor kinderen van 2 tot 8 jaar op zondagmorgen 17 mei om 11 uur in de Antonius in Rekken. Zoals jullie misschien al weten hebben we dit keer een hele bijzondere KinderKerk! Dan is er de kindercabaretvoorstelling: ‘Een knuffel graag’ door Ruurd Walinga.De kindershow gaat onder andere over vrienden maken en aandacht hebben voor elkaar. Aan de hand van Bijbelse verhalen waarin dieren een belangrijke rolspelen.De theatervoorstelling bevat, naast het verhaal over Rudmer, enkele liedjes, een hilarische natuurkwis en een wedstrijdje wie zijn knuffel het beste kan laten spreken, zingen, piepen, brullen!Tot 17 mei! Kom je ook?
LAST-MODIFIED:20260424T072638Z
LOCATION:Antonius Lindevoort 20 7157AL Rekken
SEQUENCE:0
STATUS:CONFIRMED
SUMMARY:Een knuffel graag
TRANSP:OPAQUE
END:VEVENT
END:VCALENDAR
