BEGIN:VCALENDAR
PRODID:-//PUBBLE//an agenda//NL
VERSION:2.0
METHOD:PUBLISH
BEGIN:VEVENT
DTSTART:20260719T060000Z
DTEND:20260718T210000Z
DTSTAMP:20260424T051031Z
UID:118e78f7-d913-407f-b7af-bfecb561e144
CREATED:20260424T051031Z
URL:https://www.achterhoekfoto.nl/agenda/item/546417
NAME:mw. Jansje Ruiterkamp, Vorden AchterhoekFoto.nl
X-WR-CALNAME:mw. Jansje Ruiterkamp, Vorden AchterhoekFoto.nl
X-ALT-DESC;FMTTYPE=text/html:<a href='https://www.achterhoekfoto.nl/agenda/item//546417'>https://achterhoekfoto.nl/agenda/item//546417</a> || <p>Dialectdienst bij Museum Smedekinck. Deze viering is ook te volgen via de link op www.lambertikerk.nl&nbsp; &nbsp;Er is GEEN dienst in de Lambertikerk</p>
DESCRIPTION:<a href='https://www.achterhoekfoto.nl/agenda/item//546417'>https://www.achterhoekfoto.nl/agenda/item//546417</a> || Dialectdienst bij Museum Smedekinck. Deze viering is ook te volgen via de link op www.lambertikerk.nl   Er is GEEN dienst in de Lambertikerk
LAST-MODIFIED:20260424T051031Z
LOCATION:Lambertikerk Markt 2 7021AA Zelhem
SEQUENCE:0
STATUS:CONFIRMED
SUMMARY:mw. Jansje Ruiterkamp, Vorden
TRANSP:OPAQUE
END:VEVENT
END:VCALENDAR
