BEGIN:VCALENDAR
PRODID:-//PUBBLE//an agenda//NL
VERSION:2.0
METHOD:PUBLISH
BEGIN:VEVENT
DTSTART:20260712T060000Z
DTEND:20260711T210000Z
DTSTAMP:20260424T084500Z
UID:2bb21819-7bff-4b25-bf81-019c95d211f5
CREATED:20260424T084500Z
URL:https://www.achterhoekfoto.nl/agenda/item/546416
NAME:da. Wilfrieda Stam AchterhoekFoto.nl
X-WR-CALNAME:da. Wilfrieda Stam AchterhoekFoto.nl
X-ALT-DESC;FMTTYPE=text/html:<a href='https://www.achterhoekfoto.nl/agenda/item//546416'>https://achterhoekfoto.nl/agenda/item//546416</a> || <p>Deze viering is ook te volgen via de link op www.lambertikerk.nl </p>
DESCRIPTION:<a href='https://www.achterhoekfoto.nl/agenda/item//546416'>https://www.achterhoekfoto.nl/agenda/item//546416</a> || Deze viering is ook te volgen via de link op www.lambertikerk.nl 
LAST-MODIFIED:20260424T084500Z
LOCATION:Lambertikerk Markt 2 7021AA Zelhem
SEQUENCE:0
STATUS:CONFIRMED
SUMMARY:da. Wilfrieda Stam
TRANSP:OPAQUE
END:VEVENT
END:VCALENDAR
