BEGIN:VCALENDAR
PRODID:-//PUBBLE//an agenda//NL
VERSION:2.0
METHOD:PUBLISH
BEGIN:VEVENT
DTSTART:20260705T060000Z
DTEND:20260704T210000Z
DTSTAMP:20260424T083848Z
UID:c9aaa424-f4b8-4d79-971a-0cf8d53a0295
CREATED:20260424T083848Z
URL:https://www.achterhoekfoto.nl/agenda/item/546415
NAME:da. Wilfrieda Stam AchterhoekFoto.nl
X-WR-CALNAME:da. Wilfrieda Stam AchterhoekFoto.nl
X-ALT-DESC;FMTTYPE=text/html:<a href='https://www.achterhoekfoto.nl/agenda/item//546415'>https://achterhoekfoto.nl/agenda/item//546415</a> || <p>Deze viering is ook te volgen via de link op www.lambertikerk.nl </p>
DESCRIPTION:<a href='https://www.achterhoekfoto.nl/agenda/item//546415'>https://www.achterhoekfoto.nl/agenda/item//546415</a> || Deze viering is ook te volgen via de link op www.lambertikerk.nl 
LAST-MODIFIED:20260424T083848Z
LOCATION:Lambertikerk Markt 2 7021AA Zelhem
SEQUENCE:0
STATUS:CONFIRMED
SUMMARY:da. Wilfrieda Stam
TRANSP:OPAQUE
END:VEVENT
END:VCALENDAR
