BEGIN:VCALENDAR
PRODID:-//PUBBLE//an agenda//NL
VERSION:2.0
METHOD:PUBLISH
BEGIN:VEVENT
DTSTART:20260524T060000Z
DTEND:20260523T210000Z
DTSTAMP:20260424T061532Z
UID:881bf5fc-4c6c-4964-902b-c9c78dd3f4c7
CREATED:20260424T061532Z
URL:https://www.achterhoekfoto.nl/agenda/item/546409
NAME:da. Wilfrieda Stam AchterhoekFoto.nl
X-WR-CALNAME:da. Wilfrieda Stam AchterhoekFoto.nl
X-ALT-DESC;FMTTYPE=text/html:<a href='https://www.achterhoekfoto.nl/agenda/item//546409'>https://achterhoekfoto.nl/agenda/item//546409</a> || <p>Pinksteren. Deze viering is ook te volgen via de link op www.lambertikerk.nl</p>
DESCRIPTION:<a href='https://www.achterhoekfoto.nl/agenda/item//546409'>https://www.achterhoekfoto.nl/agenda/item//546409</a> || Pinksteren. Deze viering is ook te volgen via de link op www.lambertikerk.nl
LAST-MODIFIED:20260424T061532Z
LOCATION:Lambertikerk Markt 2 7021AA Zelhem
SEQUENCE:0
STATUS:CONFIRMED
SUMMARY:da. Wilfrieda Stam
TRANSP:OPAQUE
END:VEVENT
END:VCALENDAR
