BEGIN:VCALENDAR
PRODID:-//PUBBLE//an agenda//NL
VERSION:2.0
METHOD:PUBLISH
BEGIN:VEVENT
DTSTART:20260531T060000Z
DTEND:20260530T210000Z
DTSTAMP:20260424T061705Z
UID:700e065f-514c-4eeb-9e60-4b609df63188
CREATED:20260424T061705Z
URL:https://www.achterhoekfoto.nl/agenda/item/546407
NAME:da. Wilfrieda Stam (Zelhem) en ds. Hubertien Oostdijk-van Andel (Steenderen) AchterhoekFoto.nl
X-WR-CALNAME:da. Wilfrieda Stam (Zelhem) en ds. Hubertien Oostdijk-van Andel (Steenderen) AchterhoekFoto.nl
X-ALT-DESC;FMTTYPE=text/html:<a href='https://www.achterhoekfoto.nl/agenda/item//546407'>https://achterhoekfoto.nl/agenda/item//546407</a> || <p>Openluchtdienst dienst van de kerknaobers bij PKN Wichmond. Er is GEEN dienst in de Lambertikerk.</p>
DESCRIPTION:<a href='https://www.achterhoekfoto.nl/agenda/item//546407'>https://www.achterhoekfoto.nl/agenda/item//546407</a> || Openluchtdienst dienst van de kerknaobers bij PKN Wichmond. Er is GEEN dienst in de Lambertikerk.
LAST-MODIFIED:20260424T061705Z
LOCATION:Lambertikerk Markt 2 7021AA Zelhem
SEQUENCE:0
STATUS:CONFIRMED
SUMMARY:da. Wilfrieda Stam (Zelhem) en ds. Hubertien Oostdijk-van Andel (Steenderen)
TRANSP:OPAQUE
END:VEVENT
END:VCALENDAR
