BEGIN:VCALENDAR
PRODID:-//PUBBLE//an agenda//NL
VERSION:2.0
METHOD:PUBLISH
BEGIN:VEVENT
DTSTART:20260517T060000Z
DTEND:20260516T210000Z
DTSTAMP:20260424T060946Z
UID:49bc81f5-438c-48a1-b8a9-b51e97331a7f
CREATED:20260424T060946Z
URL:https://www.achterhoekfoto.nl/agenda/item/546406
NAME:da. Wilfrieda Stam AchterhoekFoto.nl
X-WR-CALNAME:da. Wilfrieda Stam AchterhoekFoto.nl
X-ALT-DESC;FMTTYPE=text/html:<a href='https://www.achterhoekfoto.nl/agenda/item//546406'>https://achterhoekfoto.nl/agenda/item//546406</a> || <p>Deze dienst is ook te volgens via de link op www.lambertikerk.nl </p>
DESCRIPTION:<a href='https://www.achterhoekfoto.nl/agenda/item//546406'>https://www.achterhoekfoto.nl/agenda/item//546406</a> || Deze dienst is ook te volgens via de link op www.lambertikerk.nl 
LAST-MODIFIED:20260424T060946Z
LOCATION:Lambertikerk Markt 2 7021AA Zelhem
SEQUENCE:0
STATUS:CONFIRMED
SUMMARY:da. Wilfrieda Stam
TRANSP:OPAQUE
END:VEVENT
END:VCALENDAR
