BEGIN:VCALENDAR
PRODID:-//PUBBLE//an agenda//NL
VERSION:2.0
METHOD:PUBLISH
BEGIN:VEVENT
DTSTART:20260510T060000Z
DTEND:20260509T210000Z
DTSTAMP:20260424T061608Z
UID:03cad0ee-dc74-4303-a5ad-3662f3bb6dee
CREATED:20260424T061608Z
URL:https://www.achterhoekfoto.nl/agenda/item/546405
NAME:ds. Klaas Bakkker, Doetinchem AchterhoekFoto.nl
X-WR-CALNAME:ds. Klaas Bakkker, Doetinchem AchterhoekFoto.nl
X-ALT-DESC;FMTTYPE=text/html:<a href='https://www.achterhoekfoto.nl/agenda/item//546405'>https://achterhoekfoto.nl/agenda/item//546405</a> || <p>Deze dienst is ook te volgens via de link op www.lambertikerk.nl </p>
DESCRIPTION:<a href='https://www.achterhoekfoto.nl/agenda/item//546405'>https://www.achterhoekfoto.nl/agenda/item//546405</a> || Deze dienst is ook te volgens via de link op www.lambertikerk.nl 
LAST-MODIFIED:20260424T061608Z
LOCATION:Lambertikerk Markt 2 7021AA Zelhem
SEQUENCE:0
STATUS:CONFIRMED
SUMMARY:ds. Klaas Bakkker, Doetinchem
TRANSP:OPAQUE
END:VEVENT
END:VCALENDAR
